Felt | Verdi |
AlreadyApplied | True |
Aperture | 5.6 |
ApertureValue | 5.6 |
ApproximateFocusDistance | 2.21 |
Artist | @unni aaseth |
AutoLateralCA | 1 |
AutoWhiteVersion | 134348800 |
BitsPerSample (1) | 8 8 8 |
BitsPerSample | 8 |
Blacks2012 | 0 |
BlueHue | 0 |
BlueSaturation | 0 |
By-line | @unni aaseth |
CameraProfile | Adobe Standard |
CircleOfConfusion | 0.019 mm |
Clarity2012 | 0 |
ColorComponents | 3 |
ColorMode | RGB |
ColorNoiseReduction | 44 |
ColorNoiseReductionDetail | 50 |
ColorNoiseReductionSmoothness | 61 |
ColorSpace | sRGB |
ColorTemperature | 5500 |
ColorTransform | YCbCr |
Contrast2012 | 0 |
ConvertToGrayscale | False |
CreateDate (1) | 2016:07:09 14:26:50+02:00 |
CreateDate | 2016:07:09 14:26:50 |
Creator | @unni aaseth |
CreatorTool | Adobe Photoshop Lightroom 6.6 (Windows) |
CropAngle | 0 |
CropBottom | 0.722326 |
CropConstrainToWarp | 0 |
CropLeft | 0.13625 |
CropRight | 0.68125 |
CropTop | 0.183864 |
CustomRendered | Normal |
DateCreated (1) | 2016:07:09 |
DateCreated | 2016:07:09 14:26:50.079 |
DateTimeOriginal | 2016:07:09 14:26:50 |
DefringeGreenAmount | 0 |
DefringeGreenHueHi | 60 |
DefringeGreenHueLo | 40 |
DefringePurpleAmount | 0 |
DefringePurpleHueHi | 70 |
DefringePurpleHueLo | 30 |
Dehaze | +26 |
DOF | 0.11 m (2.16 - 2.27 m) |
ExifImageHeight | 1861 |
ExifImageWidth | 2825 |
Exposure2012 | +0.71 |
ExposureCompensation | 0 |
ExposureMode | Auto |
ExposureProgram | Aperture-priority AE |
ExposureTime | 1/250 |
Firmware | 1.0.9 |
Flash | Off, Did not fire |
FlashCompensation | 0 |
FNumber | 5.6 |
FocalLength | 95.0 mm |
FocalLength35efl | 95.0 mm (35 mm equivalent: 149.4 mm) |
Format | image/jpeg |
FOV | 13.7 deg |
GrainAmount | 0 |
GreenHue | 0 |
GreenSaturation | 0 |
HasCrop | True |
HasSettings | True |
Highlights2012 | +17 |
HueAdjustmentAqua | 0 |
HueAdjustmentBlue | 0 |
HueAdjustmentGreen | 0 |
HueAdjustmentMagenta | 0 |
HueAdjustmentOrange | 0 |
HueAdjustmentPurple | 0 |
HueAdjustmentRed | 0 |
HueAdjustmentYellow | 0 |
HyperfocalDistance | 84.36 m |
ICCProfileName | sRGB IEC61966-2.1 |
ImageHeight | 1861 |
ImageNumber | 0 |
ImageSize | 2825x1861 |
ImageWidth | 2825 |
ISO | 100 |
Lens | 18-250mm |
LensID (1) | 137 |
LensID | Sigma 18-250mm f/3.5-6.3 DC OS HSM |
LensInfo | 18-250mm f/? |
LensManualDistortionAmount | 0 |
LensModel | 18-250mm |
LensProfileChromaticAberrationScale | 100 |
LensProfileDistortionScale | 100 |
LensProfileEnable | 1 |
LensProfileFilename | Canon (SIGMA 18-250mm F3.5-6.3 DC MACRO OS HSM) - RAW.lcp |
LensProfileName | Adobe (SIGMA 18-250mm F3.5-6.3 DC MACRO OS HSM, Canon) |
LensProfileSetup | LensDefaults |
LensProfileVignettingScale | 100 |
LightValue | 12.9 |
LuminanceAdjustmentAqua | 0 |
LuminanceAdjustmentBlue | 0 |
LuminanceAdjustmentGreen | 0 |
LuminanceAdjustmentMagenta | 0 |
LuminanceAdjustmentOrange | 0 |
LuminanceAdjustmentPurple | 0 |
LuminanceAdjustmentRed | 0 |
LuminanceAdjustmentYellow | 0 |
LuminanceNoiseReductionContrast | 10 |
LuminanceNoiseReductionDetail | 50 |
LuminanceSmoothing | 81 |
Make | Canon |
MaxApertureValue | 5.7 |
Megapixels | 5.3 |
MeteringMode | Partial |
Model | Canon EOS 550D |
ModifyDate (1) | 2016:07:09 21:08:17+02:00 |
ModifyDate | 2016:07:09 21:08:17 |
Orientation | Horizontal (normal) |
ParametricDarks | 0 |
ParametricHighlights | 0 |
ParametricHighlightSplit | 75 |
ParametricLights | +22 |
ParametricMidtoneSplit | 50 |
ParametricShadows | 0 |
ParametricShadowSplit | 25 |
PerspectiveAspect | 0 |
PerspectiveHorizontal | 0 |
PerspectiveRotate | 0.0 |
PerspectiveScale | 100 |
PerspectiveUpright | 0 |
PerspectiveVertical | 0 |
PerspectiveX | 0.00 |
PerspectiveY | 0.00 |
PhotometricInterpretation | RGB |
PostCropVignetteAmount | 0 |
ProcessVersion | 6.7 |
ProfileDescription | sRGB IEC61966-2.1 |
RedHue | 0 |
RedSaturation | 0 |
SamplesPerPixel | 3 |
Saturation | 0 |
SaturationAdjustmentAqua | 0 |
SaturationAdjustmentBlue | 0 |
SaturationAdjustmentGreen | 0 |
SaturationAdjustmentMagenta | 0 |
SaturationAdjustmentOrange | 0 |
SaturationAdjustmentPurple | 0 |
SaturationAdjustmentRed | 0 |
SaturationAdjustmentYellow | 0 |
ScaleFactor35efl | 1.6 |
SceneCaptureType | Standard |
SerialNumber | 2335303013 |
Shadows2012 | -21 |
ShadowTint | 0 |
SharpenDetail | 25 |
SharpenEdgeMasking | 15 |
SharpenRadius | +1.2 |
Sharpness | 63 |
ShutterSpeed | 1/250 |
ShutterSpeedValue | 1/250 |
Software | Adobe Photoshop Elements 12.0 Windows |
SplitToningBalance | 0 |
SplitToningHighlightHue | 0 |
SplitToningHighlightSaturation | 0 |
SplitToningShadowHue | 0 |
SplitToningShadowSaturation | 0 |
Tint | +4 |
ToneCurve | 0, 0, 255, 255 |
ToneCurveBlue | 0, 0, 255, 255 |
ToneCurveGreen | 0, 0, 255, 255 |
ToneCurveName | Linear |
ToneCurveName2012 | Linear |
ToneCurvePV2012 | 0, 0, 255, 255 |
ToneCurvePV2012Blue | 0, 0, 255, 255 |
ToneCurvePV2012Green | 0, 0, 255, 255 |
ToneCurvePV2012Red | 0, 0, 255, 255 |
ToneCurveRed | 0, 0, 255, 255 |
ToneMapStrength | 0 |
URL_List | |
Version | 9.6 |
Vibrance | +12 |
VignetteAmount | 0 |
WhiteBalance | Auto |
Whites2012 | 0 |