Felt | Verdi |
AlreadyApplied | True |
Aperture | 9.0 |
ApertureValue | 9.0 |
ApproximateFocusDistance | 2.24 |
Artist | Torbjorn Kjorlaug |
AutoLateralCA | 0 |
AutoWhiteVersion | 134348800 |
BitsPerSample | 8 |
Blacks2012 | 0 |
BlueHue | 0 |
BlueSaturation | 0 |
By-line | Torbjorn Kjorlaug |
CameraProfile | Adobe Standard |
Caption-Abstract | 65cm softbox nokså høyt oppe fra venstre. Reflektor med grid bak fra høyre. Mørk grå bakgrunn, med gradient fra lightroom. |
CFAPattern | [Red,Green][Green,Blue] |
CircleOfConfusion | 0.030 mm |
Clarity2012 | 0 |
ColorComponents | 3 |
ColorNoiseReduction | 25 |
ColorNoiseReductionDetail | 50 |
ColorNoiseReductionSmoothness | 50 |
ColorSpace | sRGB |
ColorTemperature | 4700 |
ColorTransform | YCbCr |
Contrast | Normal |
Contrast2012 | 0 |
ConvertToGrayscale | True |
Copyright | Torbjorn Kjorlaug |
CopyrightNotice | Torbjorn Kjorlaug |
CreateDate (1) | 2016:10:27 12:46:22.40 |
CreateDate | 2016:10:27 12:46:22 |
Creator | Torbjorn Kjorlaug |
CreatorTool | Adobe Photoshop Lightroom 6.7 (Macintosh) |
CropAngle | -6.16618 |
CropBottom | 0.90639 |
CropConstrainToWarp | 0 |
CropLeft | 0.228824 |
CropRight | 0.869564 |
CropTop | 0.133544 |
CustomRendered | Normal |
DateCreated (1) | 2016:10:27 |
DateCreated | 2016:10:27 12:46:22.40 |
DateTimeOriginal | 2016:10:27 12:46:22 |
Dehaze | 0 |
Description | 65cm softbox nokså høyt oppe fra venstre. Reflektor med grid bak fra høyre. Mørk grå bakgrunn, med gradient fra lightroom. |
DigitalZoomRatio | 1 |
DOF | 0.15 m (2.17 - 2.32 m) |
Exposure2012 | +0.72 |
ExposureCompensation | +2 |
ExposureMode | Manual |
ExposureProgram | Manual |
ExposureTime | 1/250 |
Flash | Off, Did not fire |
FNumber | 9.0 |
FocalLength | 130.0 mm |
FocalLength35efl | 130.0 mm (35 mm equivalent: 130.0 mm) |
FocalLengthIn35mmFormat | 130 mm |
Format | image/jpeg |
FOV | 15.8 deg |
GainControl | None |
GradientBasedCorrActive | true |
GradientBasedCorrAmount | 1.000000 |
GradientBasedCorrBrightness | 0.000000 |
GradientBasedCorrClarity2012 | 0.000000 |
GradientBasedCorrContrast2012 | 0.004181 |
GradientBasedCorrDefringe | 0.000000 |
GradientBasedCorrExposure2012 | -0.524758 |
GradientBasedCorrHighlights2012 | 0.000000 |
GradientBasedCorrHue | 0.000000 |
GradientBasedCorrLuminanceNoise | 0.000000 |
GradientBasedCorrMaskFullX | 0.795838 |
GradientBasedCorrMaskFullY | 0.008738 |
GradientBasedCorrMaskValue | 1.000000 |
GradientBasedCorrMaskWhat | Mask/Gradient |
GradientBasedCorrMaskZeroX | 0.324193 |
GradientBasedCorrMaskZeroY | 0.525183 |
GradientBasedCorrMoire | 0.000000 |
GradientBasedCorrSaturation | 0.000000 |
GradientBasedCorrShadows2012 | 0.000000 |
GradientBasedCorrSharpness | 0.000000 |
GradientBasedCorrTemperature | 0.000000 |
GradientBasedCorrTint | 0.000000 |
GradientBasedCorrWhat | Correction |
GrainAmount | 0 |
GrayMixerAqua | -10 |
GrayMixerBlue | +20 |
GrayMixerGreen | -17 |
GrayMixerMagenta | +32 |
GrayMixerOrange | +12 |
GrayMixerPurple | +25 |
GrayMixerRed | +39 |
GrayMixerYellow | -9 |
GreenHue | 0 |
GreenSaturation | 0 |
HasCrop | True |
HasSettings | True |
Highlights2012 | 0 |
HyperfocalDistance | 62.50 m |
ImageDescription | 65cm softbox nokså høyt oppe fra venstre. Reflektor med grid bak fra høyre. Mørk grå bakgrunn, med gradient fra lightroom. |
ImageHeight | 1000 |
ImageNumber | 18367 |
ImageSize | 1000x1000 |
ImageWidth | 1000 |
ISO | 100 |
Lens | 70.0-200.0 mm f/4.0 |
LensID (1) | 178 |
LensID | AF-S Nikkor 70-200mm f/4G ED VR |
LensInfo | 70-200mm f/4 |
LensManualDistortionAmount | 0 |
LensModel | 70.0-200.0 mm f/4.0 |
LensProfileEnable | 0 |
LensProfileSetup | LensDefaults |
LightSource | Unknown |
LightValue | 14.3 |
LuminanceSmoothing | 0 |
Make | NIKON CORPORATION |
MaxApertureValue | 4.0 |
Megapixels | 1.0 |
MeteringMode | Multi-segment |
Model | NIKON D800 |
ModifyDate (1) | 2016:11:01 11:21:09+01:00 |
ModifyDate | 2016:11:01 11:21:09 |
PaintCorrectionActive | true |
PaintCorrectionAmount | 1.000000 |
PaintCorrectionBrightness | 0.000000 |
PaintCorrectionClarity2012 (2) | 0.269201 |
PaintCorrectionClarity2012 (3) | 0.194390 |
PaintCorrectionClarity2012 | 0.000000 |
PaintCorrectionContrast2012 (1) | 0.004181 |
PaintCorrectionContrast2012 | 0.000000 |
PaintCorrectionDefringe | 0.000000 |
PaintCorrectionExposure2012 (1) | 0.153279 |
PaintCorrectionExposure2012 (2) | 0.126871 |
PaintCorrectionExposure2012 (3) | 0.000000 |
PaintCorrectionExposure2012 | 0.002443 |
PaintCorrectionHighlights2012 | 0.000000 |
PaintCorrectionHue | 0.000000 |
PaintCorrectionLuminanceNoise | 0.000000 |
PaintCorrectionMaskCenterWeight (1) | 0.233661 |
PaintCorrectionMaskCenterWeight (3) | 0.000000 |
PaintCorrectionMaskCenterWeight | 0.277484 |
PaintCorrectionMaskFlow | 1.000000 |
PaintCorrectionMaskRadius (1) | 0.065291 |
PaintCorrectionMaskRadius (2) | 0.019966 |
PaintCorrectionMaskRadius (4) | 0.051355 |
PaintCorrectionMaskRadius | 0.014105 |
PaintCorrectionMaskValue (1) | 1.000000 |
PaintCorrectionMaskValue (2) | 0.868300 |
PaintCorrectionMaskValue | 0.995388 |
PaintCorrectionMaskWhat | Mask/Paint |
PaintCorrectionMoire | 0.000000 |
PaintCorrectionSaturation | 0.000000 |
PaintCorrectionShadows2012 (1) | 0.394043 |
PaintCorrectionShadows2012 (2) | 0.000000 |
PaintCorrectionShadows2012 | 0.510512 |
PaintCorrectionSharpness (2) | 0.338798 |
PaintCorrectionSharpness | 0.000000 |
PaintCorrectionTemperature | 0.000000 |
PaintCorrectionTint | 0.000000 |
PaintCorrectionWhat | Correction |
ParametricDarks | 0 |
ParametricHighlights | 0 |
ParametricHighlightSplit | 75 |
ParametricLights | 0 |
ParametricMidtoneSplit | 50 |
ParametricShadows | 0 |
ParametricShadowSplit | 25 |
PerspectiveAspect | 0 |
PerspectiveHorizontal | 0 |
PerspectiveRotate | 0.0 |
PerspectiveScale | 100 |
PerspectiveUpright | 0 |
PerspectiveVertical | 0 |
PerspectiveX | 0.00 |
PerspectiveY | 0.00 |
PostCropVignetteAmount | -21 |
PostCropVignetteFeather | 50 |
PostCropVignetteHighlightContrast | 0 |
PostCropVignetteMidpoint | 50 |
PostCropVignetteRoundness | 0 |
PostCropVignetteStyle | 1 |
ProcessVersion | 6.7 |
ProfileDescription | sRGB IEC61966-2.1 |
RedHue | 0 |
RedSaturation | 0 |
Rights | Torbjorn Kjorlaug |
Saturation | Normal |
ScaleFactor35efl | 1.0 |
SceneCaptureType | Standard |
SceneType | Directly photographed |
SensingMethod | One-chip color area |
SensitivityType | Recommended Exposure Index |
SerialNumber | 6081065 |
Shadows2012 | 0 |
ShadowTint | 0 |
SharpenDetail | 25 |
SharpenEdgeMasking | 0 |
SharpenRadius | +1.0 |
Sharpness (1) | 25 |
Sharpness | Normal |
ShutterSpeed | 1/250 |
ShutterSpeedValue | 1/250 |
Software | Adobe Photoshop Lightroom 6.7 (Macintosh) |
SplitToningBalance | 0 |
SplitToningHighlightHue | 51 |
SplitToningHighlightSaturation | 11 |
SplitToningShadowHue | 37 |
SplitToningShadowSaturation | 17 |
SubjectDistanceRange | Unknown |
Tint | -2 |
ToneCurve | 0, 0, 255, 255 |
ToneCurveBlue | 0, 0, 255, 255 |
ToneCurveGreen | 0, 0, 255, 255 |
ToneCurveName | Linear |
ToneCurveName2012 | Medium Contrast |
ToneCurvePV2012 | 0, 0, 32, 22, 64, 56, 128, 128, 192, 196, 255, 255 |
ToneCurvePV2012Blue | 0, 0, 255, 255 |
ToneCurvePV2012Green | 0, 0, 255, 255 |
ToneCurvePV2012Red | 0, 0, 255, 255 |
ToneCurveRed | 0, 0, 255, 255 |
ToneMapStrength | 0 |
Version | 9.7 |
VignetteAmount | 0 |
WhiteBalance (1) | As Shot |
WhiteBalance | Auto |
Whites2012 | 0 |