Felt | Verdi |
AELock | Off |
AFAreas | (111,106)-(144,149) |
AFFineTune | On |
AFFineTuneAdj | -10 -10 -10 |
AFPoint | Center (horizontal); Single Target |
AFPointSelected | (50%,50%) (50%,50%) |
AFSearch | Ready |
AlreadyApplied | True |
Aperture | 6.3 |
ApertureValue | 6.3 |
ApproximateFocusDistance | 32.9 |
ArtFilter | Off; 0; 0; 0 |
ArtFilterEffect | Off; 0; 0; Partial Color 0; No Effect; 0; No Color Filter; 0; 0; 0; 0; 0; 0; 0; 0; 0; 0; 0; 0; 0 |
Artist | Torstein Hall |
AspectFrame | 0 0 4031 3023 |
AspectRatio | 4:3 |
AutoLateralCA | 0 |
AutoWhiteVersion | 134348800 |
BitsPerSample | 8 |
BlackLevel2 | 65 65 65 65 |
Blacks2012 | +5 |
BlueBalance | 1.132813 |
BlueHue | 0 |
BlueSaturation | 0 |
BodyFirmwareVersion | 1.201 |
CameraID | OLYMPUS DIGITAL CAMERA |
CameraProfile | Adobe Standard |
CameraSettingsVersion | 0100 |
CameraType2 | E-5 |
CFAPattern | [Blue,Green][Green,Red] |
CircleOfConfusion | 0.015 mm |
Clarity2012 | 0 |
ColorComponents | 3 |
ColorMatrix | 338 -56 -26 -32 340 -52 -2 -72 330 |
ColorNoiseReduction | 25 |
ColorNoiseReductionDetail | 50 |
ColorNoiseReductionSmoothness | 50 |
ColorSpace | sRGB |
ColorTemperature | 6050 |
Contrast | High |
Contrast2012 | +31 |
ContrastSetting | 2 (min -5, max 5) |
ConversionLens | |
ConvertToGrayscale | False |
CreateDate | 2012:02:09 07:44:31 |
Creator | Torstein Hall |
CreatorCountry | Norge |
CreatorPostalCode | 1395 |
CreatorTool | DxO PhotoLab 7.1 |
CreatorWorkEmail | tohall@online.no |
CreatorWorkTelephone | +47 94873470 |
CreatorWorkURL | www.ohb.no |
CropHeight | 3024 |
CropLeft | 28 0 |
CropTop | 42 0 |
CropWidth | 4032 |
CustomRendered | Normal |
CustomSaturation | 0 (min -5, max 5) |
DateCreated | 2012:02:09 07:44:31 |
DateTimeOriginal (1) | 2012:02:09 07:44:31+00:00 |
DateTimeOriginal | 2012:02:09 07:44:31 |
DefringeGreenAmount | 0 |
DefringeGreenHueHi | 60 |
DefringeGreenHueLo | 40 |
DefringePurpleAmount | 0 |
DefringePurpleHueHi | 70 |
DefringePurpleHueLo | 30 |
Dehaze | 0 |
DigitalZoomRatio | 1 |
DistortionCorrection | Off |
DistortionCorrection2 | Off |
DOF | inf (7.38 m - inf) |
DriveMode | AE Bracketing, Shot 2 |
EquipmentVersion | 0100 |
ExifImageHeight (1) | 3024 |
ExifImageHeight | 1286 |
ExifImageWidth (1) | 4032 |
ExifImageWidth | 2000 |
Exposure2012 | -0.36 |
ExposureCompensation | -1 |
ExposureMode (1) | Shutter speed priority AE |
ExposureMode | Auto bracket |
ExposureProgram | Shutter speed priority AE |
ExposureShift | 0.33 |
ExposureTime | 1/15 |
ExtendedWBDetect | On |
Extender | None |
ExtenderFirmwareVersion | 0 |
ExtenderModel | |
ExtenderSerialNumber | |
ExtenderStatus | Not attached |
ExternalFlash | Off |
ExternalFlashBounce | Bounce or Off |
ExternalFlashZoom | 0 |
FaceDetectFrameCrop | 0 0 0 0 0 0 0 0 0 0 0 0 |
FaceDetectFrameSize | 0 0 0 0 0 0 |
FacesDetected | 0 0 0 |
Flash | On, Did not fire |
FlashCompensation | 0 |
FlashControlMode | Unknown (1); 1; 0 |
FlashExposureComp | 0 |
FlashFired | False |
FlashFirmwareVersion | 0 |
FlashFunction | False |
FlashIntensity | 0 0 0 |
FlashMode (1) | On |
FlashMode | Fill-in, Forced On |
FlashModel | None |
FlashRedEyeMode | False |
FlashRemoteControl | Unknown (0x21) |
FlashReturn | No return detection |
FlashSerialNumber | |
FlashType | None |
FNumber | 6.3 |
FocalLength | 30.0 mm |
FocalLength35efl | 30.0 mm (35 mm equivalent: 60.0 mm) |
FocalLengthIn35mmFormat | 60 mm |
FocusDistance | 32.89 m |
FocusInfoVersion | 0100 |
FocusMode | Single AF; S-AF, AF sensor |
FocusProcess | AF Used; 256 |
FocusStepCount | 33 |
Format | image/x-olympus-raw |
FOV | 33.4 deg (19.72 m) |
GainBase | 256 |
GainControl | High gain up |
Gradation | Normal; User-Selected |
GrainAmount | 0 |
GreenHue | 0 |
GreenSaturation | 0 |
HasSettings | True |
HierarchicalSubject | Akershus festning |
Highlights2012 | 0 |
HueAdjustmentAqua | 0 |
HueAdjustmentBlue | 0 |
HueAdjustmentGreen | 0 |
HueAdjustmentMagenta | 0 |
HueAdjustmentOrange | 0 |
HueAdjustmentPurple | 0 |
HueAdjustmentRed | 0 |
HueAdjustmentYellow | 0 |
HyperfocalDistance | 9.51 m |
ImageCreatorImageCreatorName | Torstein Hall |
ImageHeight (1) | 3024 |
ImageHeight | 1286 |
ImageProcessingVersion | 0112 |
ImageSize | 2000x1286 |
ImageStabilization | On, Mode 1 |
ImageWidth (1) | 4032 |
ImageWidth | 2000 |
InternalFlash | Off |
InternalSerialNumber | 4109102000078001 |
ISO | 1600 |
Lens | SIGMA 30mm F1.4 DC HSM |
LensFirmwareVersion | 1.105 |
LensID | Sigma 30mm F1.4 EX DC HSM |
LensInfo | 30mm f/1.4 |
LensManualDistortionAmount | 0 |
LensModel | SIGMA 30mm F1.4 DC HSM |
LensProfileEnable | 0 |
LensProfileSetup | LensDefaults |
LensProperties | 0xc003 |
LensSerialNumber | 000000000 |
LensType | Sigma 30mm F1.4 EX DC HSM |
LightSource | Unknown |
LightValue | 5.2 |
LuminanceAdjustmentAqua | 0 |
LuminanceAdjustmentBlue | 0 |
LuminanceAdjustmentGreen | 0 |
LuminanceAdjustmentMagenta | 0 |
LuminanceAdjustmentOrange | 0 |
LuminanceAdjustmentPurple | 0 |
LuminanceAdjustmentRed | 0 |
LuminanceAdjustmentYellow | 0 |
LuminanceSmoothing | 0 |
MacroLED | Off |
MacroMode | Off |
Make | OLYMPUS IMAGING CORP. |
ManometerPressure | 0 kPa |
ManometerReading | 0 m, 0 ft |
ManualFlash | Off |
ManualFlashStrength | 1 1 1 |
Marked | True |
MaxAperture | 1.4 |
MaxApertureAtMaxFocal | 1.4 |
MaxApertureAtMinFocal | 1.4 |
MaxApertureValue | 1.4 |
MaxFaces | 8 8 0 |
MaxFocalLength | 30 |
Megapixels | 2.6 |
MeteringMode (1) | Multi-segment |
MeteringMode | ESP |
MinFocalLength | 30 |
Model | E-5 |
ModifiedSaturation | Off |
ModifyDate (1) | 2023:11:10 21:11:15+01:00 |
ModifyDate | 2023:11:10 21:11:15 |
MultipleExposureMode | Off; 1 |
NoiseFilter | Standard |
NoiseReduction | (none) |
NoiseReduction2 | (none) |
Orientation | Horizontal (normal) |
PanoramaMode | Off |
ParametricDarks | 0 |
ParametricHighlights | 0 |
ParametricHighlightSplit | 75 |
ParametricLights | 0 |
ParametricMidtoneSplit | 50 |
ParametricShadows | 0 |
ParametricShadowSplit | 25 |
PerspectiveAspect | 0 |
PerspectiveHorizontal | 0 |
PerspectiveRotate | 0.0 |
PerspectiveScale | 100 |
PerspectiveUpright | 0 |
PerspectiveVertical | 0 |
PerspectiveX | 0.00 |
PerspectiveY | 0.00 |
PictureMode | Natural; 2 |
PictureModeBWFilter | n/a |
PictureModeContrast | 2 (min -2, max 2) |
PictureModeEffect | Standard |
PictureModeSaturation | 0 (min -2, max 2) |
PictureModeSharpness | 2 (min -2, max 2) |
PictureModeTone | n/a |
PostCropVignetteAmount | 0 |
PrintIMVersion | 0300 |
ProcessVersion | 6.7 |
Rating | 0 |
RatingPercent | 0 |
RawDevColorSpace | sRGB |
RawDevContrastValue | 0 0 0 |
RawDevEditStatus | Original |
RawDevEngine | High Speed |
RawDevExposureBiasValue | 0 |
RawDevGrayPoint | 0 0 0 |
RawDevMemoryColorEmphasis | 0 |
RawDevNoiseReduction | (none) |
RawDevSaturationEmphasis | 0 0 0 |
RawDevSettings | (none) |
RawDevSharpnessValue | 0 0 0 |
RawDevVersion | 0100 |
RawDevWBFineAdjustment | 0 |
RawDevWhiteBalanceValue | 0 |
RawFileName | P2096582.ORF |
RedBalance | 1.867188 |
RedHue | 0 |
RedSaturation | 0 |
Saturation (2) | 0 |
Saturation | Normal |
SaturationAdjustmentAqua | 0 |
SaturationAdjustmentBlue | 0 |
SaturationAdjustmentGreen | 0 |
SaturationAdjustmentMagenta | 0 |
SaturationAdjustmentOrange | 0 |
SaturationAdjustmentPurple | 0 |
SaturationAdjustmentRed | 0 |
SaturationAdjustmentYellow | 0 |
ScaleFactor35efl | 2.0 |
SceneCaptureType | Standard |
SceneDetect | 0 |
SceneMode | Standard |
SensorCalibration | 3935 322 |
SensorTemperature | 18.7 C |
SerialNumber | AB1502521 |
ShadingCompensation | On |
ShadingCompensation2 | On |
Shadows2012 | 0 |
ShadowTint | 0 |
SharpenDetail | 25 |
SharpenEdgeMasking | 0 |
SharpenRadius | +1.0 |
Sharpness (2) | 25 |
Sharpness | Hard |
SharpnessSetting | 2 (min -5, max 5) |
ShutterSpeed | 1/15 |
ShutterSpeedValue | 1/15 |
SidecarForExtension | ORF |
Software | DxO PhotoLab 7.1 |
SpecialMode | Fast, Sequence: 2, Panorama: (none) |
SplitToningBalance | 0 |
SplitToningHighlightHue | 0 |
SplitToningHighlightSaturation | 0 |
SplitToningShadowHue | 0 |
SplitToningShadowSaturation | 0 |
Subject | Akershus festning |
SubjectDistance (1) | 32.9 m |
SubjectDistance | 32.89 m |
Tint | 0 |
ToneCurve | 0, 0, 32, 22, 64, 56, 128, 128, 192, 196, 255, 255 |
ToneCurveBlue | 0, 0, 255, 255 |
ToneCurveGreen | 0, 0, 255, 255 |
ToneCurveName | Medium Contrast |
ToneCurveName2012 | Linear |
ToneCurvePV2012 | 0, 0, 255, 255 |
ToneCurvePV2012Blue | 0, 0, 255, 255 |
ToneCurvePV2012Green | 0, 0, 255, 255 |
ToneCurvePV2012Red | 0, 0, 255, 255 |
ToneCurveRed | 0, 0, 255, 255 |
ToneLevel | 0; 0; 0; 0; 0; 0; 0; 0; 0; 0; 0; 0 |
ToneMapStrength | 0 |
UsageTerms | Contact me at: tohall@online.no for price |
UserComment | |
ValidBits | 12 0 |
Version | 9.12 |
Vibrance | 0 |
VignetteAmount | 0 |
WB_RBLevels | 478 290 256 256 |
WB_RBLevels3000K | 258 618 256 256 |
WB_RBLevels3300K | 318 478 256 256 |
WB_RBLevels3600K | 344 436 256 256 |
WB_RBLevels3900K | 366 404 256 256 |
WB_RBLevels4000K | 424 480 256 256 |
WB_RBLevels4300K | 386 396 256 256 |
WB_RBLevels4500K | 432 420 256 256 |
WB_RBLevels4800K | 418 360 256 256 |
WB_RBLevels5300K | 446 334 256 256 |
WB_RBLevels6000K | 490 298 256 256 |
WB_RBLevels6600K | 528 338 256 256 |
WB_RBLevels7500K | 532 258 256 256 |
WB_RBLevelsCWB1 | 476 384 256 256 |
WB_RBLevelsCWB2 | 266 752 256 256 |
WB_RBLevelsCWB3 | 382 384 256 256 |
WB_RBLevelsCWB4 | 268 744 256 256 |
WhiteBalance (2) | As Shot |
WhiteBalance | Auto |
WhiteBalance2 | Auto |
WhiteBalanceBracket | 0 0 |
WhiteBalanceTemperature | Auto |
Whites2012 | -26 |
ZoomStepCount | 0 |