Felt | Verdi |
AlreadyApplied | True |
Aperture | 7.1 |
ApertureValue | 7.1 |
Artist | unknown |
BitsPerSample | 8 |
BlueHue | 0 |
BlueSaturation | 0 |
Brightness | +49 |
By-line | unknown |
CameraProfile | ACR 2.4 |
ChromaticAberrationB | 0 |
ChromaticAberrationR | 0 |
CircleOfConfusion | 0.019 mm |
ColorComponents | 3 |
ColorMode | RGB |
ColorNoiseReduction | 25 |
ColorSpace (1) | Unknown (-1) |
ColorSpace | Uncalibrated |
ColorTemperature | 5400 |
Contrast | +43 |
ConvertToGrayscale | False |
CopyrightFlag | False |
CreateDate (1) | 2007:08:19 21:56:07+02:00 |
CreateDate | 2007:08:18 18:47:15 |
Creator | unknown |
CreatorTool | Adobe Photoshop CS3 Windows |
CustomRendered | Normal |
DateTimeDigitized | 2007:08:18 18:47:15+02:00 |
DateTimeOriginal (1) | 2007:08:18 18:47:15+02:00 |
DateTimeOriginal | 2007:08:18 18:47:15 |
ExifImageHeight | 597 |
ExifImageWidth | 800 |
Exposure | -1.10 |
ExposureCompensation | +2/3 |
ExposureMode | Auto |
ExposureProgram | Aperture-priority AE |
ExposureTime | 1/50 |
FillLight | 0 |
Firmware | 2.0.0 |
Flash | Off, Did not fire |
FlashCompensation | -0.666666666666667 |
FlashFired | False |
FlashFunction | False |
FlashMode | Off |
FlashRedEyeMode | False |
FlashReturn | No return detection |
FNumber | 7.1 |
FocalLength | 149.0 mm |
FocalLength35efl | 149.0 mm (35 mm equivalent: 238.6 mm) |
Format | image/jpeg |
FOV | 8.6 deg |
GreenHue | 0 |
GreenSaturation | 0 |
HasCrop | False |
HasSettings | True |
HighlightRecovery | 0 |
HueAdjustmentAqua | 0 |
HueAdjustmentBlue | 0 |
HueAdjustmentGreen | 0 |
HueAdjustmentMagenta | 0 |
HueAdjustmentOrange | 0 |
HueAdjustmentPurple | 0 |
HueAdjustmentRed | 0 |
HueAdjustmentYellow | 0 |
HyperfocalDistance | 166.67 m |
ICCProfileName | Adobe RGB (1998) |
ImageHeight | 597 |
ImageNumber | 231 |
ImageSize | 800x597 |
ImageWidth | 800 |
ISO | 200 |
Lens | 70.0-300.0 mm |
LensInfo | 70-300mm f/? |
LightValue | 10.3 |
LuminanceAdjustmentAqua | 0 |
LuminanceAdjustmentBlue | 0 |
LuminanceAdjustmentGreen | 0 |
LuminanceAdjustmentMagenta | 0 |
LuminanceAdjustmentOrange | 0 |
LuminanceAdjustmentPurple | 0 |
LuminanceAdjustmentRed | 0 |
LuminanceAdjustmentYellow | 0 |
LuminanceSmoothing | 0 |
Make | Canon |
MaxApertureValue | 5.6 |
Megapixels | 0.478 |
MeteringMode | Average |
Model | Canon EOS 20D |
ModifyDate (1) | 2007:08:19 21:56:07+02:00 |
ModifyDate | 2007:08:19 21:56:07 |
Orientation | Horizontal (normal) |
OwnerName | unknown |
ParametricDarks | 0 |
ParametricHighlights | 0 |
ParametricHighlightSplit | 75 |
ParametricLights | 0 |
ParametricMidtoneSplit | 50 |
ParametricShadows | 0 |
ParametricShadowSplit | 25 |
ProfileDescription | Adobe RGB (1998) |
Rating | 0 |
RawFileName | _MG_9959.CR2 |
RedHue | 0 |
RedSaturation | 0 |
Saturation | +2 |
SaturationAdjustmentAqua | 0 |
SaturationAdjustmentBlue | 0 |
SaturationAdjustmentGreen | 0 |
SaturationAdjustmentMagenta | 0 |
SaturationAdjustmentOrange | 0 |
SaturationAdjustmentPurple | 0 |
SaturationAdjustmentRed | 0 |
SaturationAdjustmentYellow | 0 |
ScaleFactor35efl | 1.6 |
SceneCaptureType | Standard |
SerialNumber | 1030413231 |
Shadows | 7 |
ShadowTint | 0 |
Sharpness | 15 |
ShutterSpeed | 1/50 |
ShutterSpeedValue | 1/50 |
SidecarForExtension | CR2 |
Software | Adobe Photoshop CS3 Windows |
SplitToningBalance | 0 |
SplitToningHighlightHue | 0 |
SplitToningHighlightSaturation | 0 |
SplitToningShadowHue | 0 |
SplitToningShadowSaturation | 0 |
TimeZoneOffset | 2 2 |
Tint | 0 |
ToneCurve | 0, 0, 32, 22, 64, 56, 128, 128, 192, 196, 255, 255 |
ToneCurveName | Medium Contrast |
URL_List | |
Version | 4.0 |
Vibrance | -1 |
VignetteAmount | 0 |
WhiteBalance (2) | Custom |
WhiteBalance | Manual |