Felt | Verdi |
AlreadyApplied | True |
Aperture | 5.6 |
ApertureValue | 5.6 |
BitsPerSample (1) | 16, 16, 16 |
BitsPerSample (2) | 16 16 16 |
BitsPerSample | 8 |
BlueHue | 0 |
BlueSaturation | 0 |
Brightness | +50 |
CameraProfile | ACR 4.4 |
ChromaticAberrationB | 0 |
ChromaticAberrationR | 0 |
CircleOfConfusion | 0.019 mm |
Clarity | 10 |
ColorComponents | 3 |
ColorMode | RGB |
ColorNoiseReduction | 43 |
ColorSpace | sRGB |
ColorTemperature | 4900 |
Contrast | +45 |
ConvertToGrayscale | False |
CopyrightFlag | False |
CreateDate (1) | 2008:11:28 22:41:40+01:00 |
CreateDate | 2008:03:09 09:36:18 |
CreatorTool | Adobe Photoshop CS3 Windows |
CropAngle | 0.485663 |
CropBottom | 0.755732 |
CropHeight | 1497 |
CropLeft | 0.130304 |
CropRight | 0.677439 |
CropTop | 0.171023 |
CropUnit | pixels |
CropWidth | 2140 |
CustomRendered | Normal |
DateTimeDigitized | 2008:03:09 09:36:18.12+01:00 |
DateTimeOriginal (1) | 2008:03:09 09:36:18.12+01:00 |
DateTimeOriginal | 2008:03:09 09:36:18 |
Defringe | 0 |
ExifImageHeight | 766 |
ExifImageWidth | 1024 |
Exposure | -0.19 |
ExposureCompensation | 0 |
ExposureMode | Auto |
ExposureProgram | Aperture-priority AE |
ExposureTime | 1/200 |
FillLight | 0 |
Firmware | 1.0.4 |
Flash | Off, Did not fire |
FlashCompensation | 0 |
FlashFired | False |
FlashFunction | False |
FlashMode | Off |
FlashRedEyeMode | False |
FlashReturn | No return detection |
FNumber | 5.6 |
FocalLength | 400.0 mm |
FocalLength35efl | 400.0 mm (35 mm equivalent: 647.5 mm) |
Format | image/jpeg |
FOV | 3.2 deg |
GreenHue | 0 |
GreenSaturation | 0 |
HasCrop | True |
HasSettings | True |
HighlightRecovery | 0 |
HueAdjustmentAqua | 0 |
HueAdjustmentBlue | 0 |
HueAdjustmentGreen | 0 |
HueAdjustmentMagenta | 0 |
HueAdjustmentOrange | 0 |
HueAdjustmentPurple | 0 |
HueAdjustmentRed | 0 |
HueAdjustmentYellow | 0 |
HyperfocalDistance | 1539.34 m |
ICCProfileName | sRGB IEC61966-2.1 |
ImageHeight (1) | 1478 |
ImageHeight (2) | 1497 |
ImageHeight | 766 |
ImageNumber | 0 |
ImageSize | 1024x766 |
ImageWidth (1) | 1976 |
ImageWidth (2) | 2140 |
ImageWidth | 1024 |
ISO | 800 |
Lens | EF100-400mm f/4.5-5.6L IS USM |
LensInfo | 100-400mm f/? |
LightValue | 9.6 |
LuminanceAdjustmentAqua | 0 |
LuminanceAdjustmentBlue | 0 |
LuminanceAdjustmentGreen | 0 |
LuminanceAdjustmentMagenta | 0 |
LuminanceAdjustmentOrange | 0 |
LuminanceAdjustmentPurple | 0 |
LuminanceAdjustmentRed | 0 |
LuminanceAdjustmentYellow | 0 |
LuminanceSmoothing | 37 |
Make | Canon |
MaxApertureValue | 5.7 |
Megapixels | 0.784 |
MeteringMode | Multi-segment |
Model | Canon EOS 40D |
ModifyDate (1) | 2008:11:28 22:41:40+01:00 |
ModifyDate | 2008:11:28 22:41:40 |
Orientation | Horizontal (normal) |
ParametricDarks | -2 |
ParametricHighlights | +5 |
ParametricHighlightSplit | 75 |
ParametricLights | -5 |
ParametricMidtoneSplit | 50 |
ParametricShadows | -5 |
ParametricShadowSplit | 25 |
PhotometricInterpretation | RGB |
PlanarConfiguration | Chunky |
ProfileDescription | sRGB IEC61966-2.1 |
RedHue | 0 |
RedSaturation | 0 |
SamplesPerPixel | 3 |
Saturation | 0 |
SaturationAdjustmentAqua | 0 |
SaturationAdjustmentBlue | 0 |
SaturationAdjustmentGreen | 0 |
SaturationAdjustmentMagenta | 0 |
SaturationAdjustmentOrange | 0 |
SaturationAdjustmentPurple | 0 |
SaturationAdjustmentRed | 0 |
SaturationAdjustmentYellow | 0 |
ScaleFactor35efl | 1.6 |
SceneCaptureType | Standard |
SerialNumber | 630444448 |
Shadows | 5 |
ShadowTint | 0 |
SharpenDetail | 60 |
SharpenEdgeMasking | 85 |
SharpenRadius | +1.0 |
Sharpness | 59 |
ShutterSpeed | 1/200 |
ShutterSpeedValue | 1/200 |
Software | Adobe Photoshop CS3 Windows |
SplitToningBalance | 0 |
SplitToningHighlightHue | 0 |
SplitToningHighlightSaturation | 0 |
SplitToningShadowHue | 0 |
SplitToningShadowSaturation | 0 |
Tint | +1 |
ToneCurve | 0, 0, 32, 22, 64, 56, 128, 128, 192, 196, 255, 255 |
ToneCurveName | Medium Contrast |
URL_List | |
Version | 4.4.1 |
Vibrance | +2 |
VignetteAmount | 0 |
WhiteBalance (2) | As Shot |
WhiteBalance | Auto |