Felt | Verdi |
AlreadyApplied | True |
Aperture | 2.8 |
ApertureValue | 2.8 |
Artist | Feileac‡n McCormick |
BitsPerSample | 8 |
BlueHue | 0 |
BlueSaturation | 0 |
Brightness | 0 |
By-line | Feileac‡n McCormick |
CameraProfile | Embedded |
ChromaticAberrationB | 0 |
ChromaticAberrationR | 0 |
Clarity | 0 |
ColorComponents | 3 |
ColorNoiseReduction | 0 |
ColorSpace | sRGB |
Contrast (1) | 0 |
Contrast | High |
ConvertToGrayscale | False |
Copyright | Feileac‡n McCormick |
CopyrightFlag | False |
CopyrightNotice | Feileac‡n McCormick |
CreateDate (1) | 2009:01:03 23:32:32+01:00 |
CreateDate | 2008:12:31 01:57:42 |
Creator | Feileac‡n McCormick |
CreatorTool | Adobe Photoshop CS Windows |
CreatorWorkEmail | feileacan@feileacan.no |
CreatorWorkURL | flickr.com/photos/sommerfuglen |
CustomRendered | Normal |
DateTimeDigitized | 2008:12:31 01:57:42+01:00 |
DateTimeOriginal (1) | 2008:12:31 01:57:42+01:00 |
DateTimeOriginal | 2008:12:31 01:57:42 |
Defringe | 0 |
ExifImageHeight | 539 |
ExifImageWidth | 404 |
Exposure | -0.08 |
ExposureCompensation | +0.3 |
ExposureMode | Manual |
ExposureProgram | Aperture-priority AE |
ExposureTime | 1/100 |
FillLight | 0 |
Flash | Off, Did not fire |
FlashFired | False |
FlashFunction | False |
FlashMode | Off |
FlashRedEyeMode | False |
FlashReturn | No return detection |
FNumber | 2.8 |
FocalLength | 48.6 mm |
FocalLength35efl | 48.6 mm |
Format | image/jpeg |
GreenHue | 0 |
GreenSaturation | 0 |
HasCrop | False |
HasSettings | True |
HighlightRecovery | 0 |
HueAdjustmentAqua | +100 |
HueAdjustmentBlue | +100 |
HueAdjustmentGreen | +100 |
HueAdjustmentMagenta | -100 |
HueAdjustmentOrange | 0 |
HueAdjustmentPurple | -100 |
HueAdjustmentRed | -29 |
HueAdjustmentYellow | -19 |
ImageHeight (1) | 3264 |
ImageHeight | 539 |
ImageSize | 404x539 |
ImageWidth (1) | 2448 |
ImageWidth | 404 |
IncrementalTemperature | 0 |
IncrementalTint | 0 |
ISO | 100 |
Keywords | Linn Barbie |
LightSource | Unknown |
LightValue | 9.6 |
LuminanceAdjustmentAqua | 0 |
LuminanceAdjustmentBlue | -100 |
LuminanceAdjustmentGreen | 0 |
LuminanceAdjustmentMagenta | 0 |
LuminanceAdjustmentOrange | +2 |
LuminanceAdjustmentPurple | -100 |
LuminanceAdjustmentRed | -42 |
LuminanceAdjustmentYellow | 0 |
LuminanceSmoothing | 0 |
Make | SONY |
MaxApertureValue | 2.0 |
Megapixels | 0.218 |
MeteringMode | Multi-segment |
Model | DSC-F828 |
ModifyDate (1) | 2009:01:03 23:32:32+01:00 |
ModifyDate | 2009:01:03 23:32:32 |
Orientation | Horizontal (normal) |
ParametricDarks | 0 |
ParametricHighlights | 0 |
ParametricHighlightSplit | 75 |
ParametricLights | 0 |
ParametricMidtoneSplit | 50 |
ParametricShadows | 0 |
ParametricShadowSplit | 25 |
ProfileDescription | sRGB IEC61966-2.1 |
RedHue | 0 |
RedSaturation | 0 |
Rights | Feileac‡n McCormick |
Saturation (1) | -8 |
Saturation | High |
SaturationAdjustmentAqua | -40 |
SaturationAdjustmentBlue | 0 |
SaturationAdjustmentGreen | +29 |
SaturationAdjustmentMagenta | +4 |
SaturationAdjustmentOrange | 0 |
SaturationAdjustmentPurple | -4 |
SaturationAdjustmentRed | +100 |
SaturationAdjustmentYellow | -27 |
SceneCaptureType | Standard |
SceneType | Directly photographed |
Shadows | 4 |
ShadowTint | 0 |
SharpenDetail | 25 |
SharpenEdgeMasking | 0 |
SharpenRadius | +1.0 |
Sharpness (1) | 0 |
Sharpness | Normal |
ShutterSpeed | 1/100 |
ShutterSpeedValue | 1/100 |
Software | Adobe Photoshop CS Windows |
SplitToningBalance | 0 |
SplitToningHighlightHue | 0 |
SplitToningHighlightSaturation | 0 |
SplitToningShadowHue | 0 |
SplitToningShadowSaturation | 0 |
Subject | Linn Barbie |
ToneCurve | 0, 0, 255, 255 |
ToneCurveName | Linear |
URL_List | |
Version | 4.4.1 |
Vibrance | -15 |
VignetteAmount | -92 |
VignetteMidpoint | 50 |
WhiteBalance (1) | Custom |
WhiteBalance | Auto |