Felt | Verdi |
AlreadyApplied | True |
Aperture | 16.0 |
ApertureValue | 16.0 |
BitsPerSample | 8 |
BlueHue | 0 |
BlueSaturation | 0 |
Brightness | 0 |
CameraProfile | ACR 4.4 |
CFAPattern | [Red,Green][Green,Blue] |
ChromaticAberrationB | 0 |
ChromaticAberrationR | 0 |
CircleOfConfusion | 0.020 mm |
Clarity | +64 |
ColorComponents | 3 |
ColorNoiseReduction | 70 |
ColorTemperature | 5333 |
Contrast (2) | +50 |
Contrast | Normal |
ConvertToGrayscale | False |
Copyright | Eli Brager |
CopyrightNotice | Eli Brager |
CreateDate (1) | 2009:02:01 15:44:33.34+01:00 |
CreateDate | 2009:02:01 15:44:33 |
CreatorTool | Adobe Photoshop Lightroom |
CustomRendered | Normal |
DateTimeDigitized | 2009:02:01 15:44:33.34+01:00 |
DateTimeOriginal (1) | 2009:02:01 15:44:33.34+01:00 |
DateTimeOriginal | 2009:02:01 15:44:33 |
Defringe | 0 |
DigitalZoomRatio | 1 |
ExifImageHeight | 996 |
ExifImageWidth | 1500 |
Exposure | +1.60 |
ExposureCompensation | 0 |
ExposureMode | Manual |
ExposureProgram | Manual |
ExposureTime | 1/250 |
FillLight | 0 |
Flash | No Flash |
FlashFired | False |
FlashFunction | False |
FlashMode | Unknown |
FlashRedEyeMode | False |
FlashReturn | No return detection |
FNumber | 16.0 |
FocalLength | 300.0 mm |
FocalLength35efl | 300.0 mm (35 mm equivalent: 450.0 mm) |
FocalLengthIn35mmFormat | 450 mm |
FOV | 4.6 deg |
GainControl | None |
GreenHue | 0 |
GreenSaturation | 0 |
HasCrop | False |
HasSettings | True |
HierarchicalSubject | Geografi, Geografi|Norge, Geografi|Norge|Hedmark, Geografi|Norge|Hedmark|Engerdal, Geografi|Norge|Hedmark|Engerdal|Elgå, Geografi|Norge|Hedmark|Engerdal|Femund, fjell, fjellbjørk, fotokurs, vann, vinter, vinterlandskap |
HighlightRecovery | 0 |
HueAdjustmentAqua | 0 |
HueAdjustmentBlue | 0 |
HueAdjustmentGreen | 0 |
HueAdjustmentMagenta | 0 |
HueAdjustmentOrange | 0 |
HueAdjustmentPurple | 0 |
HueAdjustmentRed | 0 |
HueAdjustmentYellow | 0 |
HyperfocalDistance | 280.82 m |
ImageHeight | 996 |
ImageNumber | 11911 |
ImageSize | 1500x996 |
ImageWidth | 1500 |
ISO | 200 |
Keywords | Elgå, Engerdal, Femund, Geografi, Hedmark, Norge, fjell, fjellbjørk, fotokurs, vann, vinter, vinterlandskap |
Lens | 70.0-300.0 mm f/4.0-5.6 |
LensInfo | 70-300mm f/4-5.6 |
LightSource | Fine Weather |
LightValue | 15.0 |
LuminanceAdjustmentAqua | 0 |
LuminanceAdjustmentBlue | 0 |
LuminanceAdjustmentGreen | 0 |
LuminanceAdjustmentMagenta | 0 |
LuminanceAdjustmentOrange | 0 |
LuminanceAdjustmentPurple | 0 |
LuminanceAdjustmentRed | 0 |
LuminanceAdjustmentYellow | 0 |
LuminanceSmoothing | 85 |
Make | NIKON CORPORATION |
MaxApertureValue | 5.7 |
Megapixels | 1.5 |
MeteringMode | Spot |
Model | NIKON D300 |
ModifyDate (1) | 2009:02:04 15:16:37+01:00 |
ModifyDate | 2009:02:04 15:16:37 |
Orientation | Horizontal (normal) |
ParametricDarks | 0 |
ParametricHighlights | 0 |
ParametricHighlightSplit | 75 |
ParametricLights | 0 |
ParametricMidtoneSplit | 50 |
ParametricShadows | 0 |
ParametricShadowSplit | 25 |
PostCropVignetteAmount | 0 |
ProfileDescription | sRGB IEC61966-2.1 |
Rating | 5 |
RedHue | 0 |
RedSaturation | 0 |
Rights | Eli Brager |
Saturation (2) | 0 |
Saturation | Normal |
SaturationAdjustmentAqua | 0 |
SaturationAdjustmentBlue | 0 |
SaturationAdjustmentGreen | 0 |
SaturationAdjustmentMagenta | 0 |
SaturationAdjustmentOrange | 0 |
SaturationAdjustmentPurple | 0 |
SaturationAdjustmentRed | 0 |
SaturationAdjustmentYellow | 0 |
SavedSettingsName | Import |
SavedSettingsParametersBlueHue | 0 |
SavedSettingsParametersBlueSaturation | 0 |
SavedSettingsParametersBrightness | +50 |
SavedSettingsParametersChromaticAberrationB | 0 |
SavedSettingsParametersChromaticAberrationR | 0 |
SavedSettingsParametersClarity | 0 |
SavedSettingsParametersColorNoiseReduction | 25 |
SavedSettingsParametersContrast | +25 |
SavedSettingsParametersConvertToGrayscale | False |
SavedSettingsParametersDefringe | 0 |
SavedSettingsParametersExposure | 0.00 |
SavedSettingsParametersFillLight | 0 |
SavedSettingsParametersGreenHue | 0 |
SavedSettingsParametersGreenSaturation | 0 |
SavedSettingsParametersHighlightRecovery | 0 |
SavedSettingsParametersHueAdjustmentAqua | 0 |
SavedSettingsParametersHueAdjustmentBlue | 0 |
SavedSettingsParametersHueAdjustmentGreen | 0 |
SavedSettingsParametersHueAdjustmentMagenta | 0 |
SavedSettingsParametersHueAdjustmentOrange | 0 |
SavedSettingsParametersHueAdjustmentPurple | 0 |
SavedSettingsParametersHueAdjustmentRed | 0 |
SavedSettingsParametersHueAdjustmentYellow | 0 |
SavedSettingsParametersLuminanceAdjustmentAqua | 0 |
SavedSettingsParametersLuminanceAdjustmentBlue | 0 |
SavedSettingsParametersLuminanceAdjustmentGreen | 0 |
SavedSettingsParametersLuminanceAdjustmentMagenta | 0 |
SavedSettingsParametersLuminanceAdjustmentOrange | 0 |
SavedSettingsParametersLuminanceAdjustmentPurple | 0 |
SavedSettingsParametersLuminanceAdjustmentRed | 0 |
SavedSettingsParametersLuminanceAdjustmentYellow | 0 |
SavedSettingsParametersLuminanceSmoothing | 0 |
SavedSettingsParametersParametricDarks | 0 |
SavedSettingsParametersParametricHighlights | 0 |
SavedSettingsParametersParametricHighlightSplit | 75 |
SavedSettingsParametersParametricLights | 0 |
SavedSettingsParametersParametricMidtoneSplit | 50 |
SavedSettingsParametersParametricShadows | 0 |
SavedSettingsParametersParametricShadowSplit | 25 |
SavedSettingsParametersPostCropVignetteAmount | 0 |
SavedSettingsParametersRedHue | 0 |
SavedSettingsParametersRedSaturation | 0 |
SavedSettingsParametersSaturation | 0 |
SavedSettingsParametersSaturationAdjustmentAqua | 0 |
SavedSettingsParametersSaturationAdjustmentBlue | 0 |
SavedSettingsParametersSaturationAdjustmentGreen | 0 |
SavedSettingsParametersSaturationAdjustmentMagenta | 0 |
SavedSettingsParametersSaturationAdjustmentOrange | 0 |
SavedSettingsParametersSaturationAdjustmentPurple | 0 |
SavedSettingsParametersSaturationAdjustmentRed | 0 |
SavedSettingsParametersSaturationAdjustmentYellow | 0 |
SavedSettingsParametersShadows | 5 |
SavedSettingsParametersShadowTint | 0 |
SavedSettingsParametersSharpenDetail | 25 |
SavedSettingsParametersSharpenEdgeMasking | 0 |
SavedSettingsParametersSharpenRadius | +1.0 |
SavedSettingsParametersSharpness | 25 |
SavedSettingsParametersSplitToningBalance | 0 |
SavedSettingsParametersSplitToningHighlightHue | 0 |
SavedSettingsParametersSplitToningHighlightSaturation | 0 |
SavedSettingsParametersSplitToningShadowHue | 0 |
SavedSettingsParametersSplitToningShadowSaturation | 0 |
SavedSettingsParametersToneCurve | 0, 0, 32, 22, 64, 56, 128, 128, 192, 196, 255, 255 |
SavedSettingsParametersToneCurveName | Medium Contrast |
SavedSettingsParametersVersion | 4.5 |
SavedSettingsParametersVibrance | 0 |
SavedSettingsParametersVignetteAmount | 0 |
SavedSettingsParametersWhiteBalance | As Shot |
SavedSettingsType | Snapshot |
ScaleFactor35efl | 1.5 |
SceneCaptureType | Standard |
SceneType | Directly photographed |
SensingMethod | One-chip color area |
SerialNumber | 4105460 |
Shadows | 4 |
ShadowTint | 0 |
SharpenDetail | 62 |
SharpenEdgeMasking | 48 |
SharpenRadius | +2.3 |
Sharpness (2) | 114 |
Sharpness | Hard |
ShutterSpeed | 1/250 |
ShutterSpeedValue | 1/250 |
Software | Ver.1.00 |
SplitToningBalance | 0 |
SplitToningHighlightHue | 0 |
SplitToningHighlightSaturation | 0 |
SplitToningShadowHue | 0 |
SplitToningShadowSaturation | 0 |
Subject | Elgå, Engerdal, Femund, Geografi, Hedmark, Norge, fjell, fjellbjørk, fotokurs, vann, vinter, vinterlandskap |
SubjectDistanceRange | Unknown |
Tint | 0 |
ToneCurve | 0, 0, 32, 22, 64, 56, 128, 128, 192, 196, 255, 255 |
ToneCurveName | Medium Contrast |
Version | 4.5 |
Vibrance | +50 |
VignetteAmount | 0 |
WhiteBalance (2) | Custom |
WhiteBalance | Manual |