Felt | Verdi |
AlreadyApplied | True |
Aperture | 5.6 |
ApertureValue | 5.6 |
BitsPerSample | 8 |
BlueHue | 0 |
BlueSaturation | 0 |
Brightness | +47 |
CameraProfile | Adobe Standard |
CFAPattern | [Red,Green][Green,Blue] |
ChromaticAberrationB | 0 |
ChromaticAberrationR | 0 |
CircleOfConfusion | 0.020 mm |
Clarity | +69 |
ColorComponents | 3 |
ColorNoiseReduction | 25 |
ColorTemperature | 6250 |
Contrast (2) | +46 |
Contrast | Normal |
ConvertToGrayscale | False |
Copyright | Eli Brager |
CopyrightNotice | Eli Brager |
CreateDate (1) | 2009:03:01 09:25:32.51+01:00 |
CreateDate | 2009:03:01 09:25:32 |
CreatorTool | Adobe Photoshop Lightroom |
CropAngle | 0 |
CropBottom | 1 |
CropHeight | 753 |
CropLeft | 0.242875 |
CropRight | 1 |
CropTop | 0.141791 |
CropUnit | pixels |
CropWidth | 1000 |
CustomRendered | Normal |
DateTimeDigitized | 2009:03:01 09:25:32.51+01:00 |
DateTimeOriginal (1) | 2009:03:01 09:25:32.51+01:00 |
DateTimeOriginal | 2009:03:01 09:25:32 |
Defringe | 0 |
DigitalZoomRatio | 1 |
ExifImageHeight | 753 |
ExifImageWidth | 1000 |
Exposure | +0.05 |
ExposureCompensation | 0 |
ExposureMode | Auto |
ExposureProgram | Aperture-priority AE |
ExposureTime | 1/125 |
FillLight | 0 |
Flash | No Flash |
FlashFired | False |
FlashFunction | False |
FlashMode | Unknown |
FlashRedEyeMode | False |
FlashReturn | No return detection |
FNumber | 5.6 |
FocalLength | 420.0 mm |
FocalLength35efl | 420.0 mm (35 mm equivalent: 630.0 mm) |
FocalLengthIn35mmFormat | 630 mm |
FOV | 3.3 deg |
GainControl | Low gain up |
GreenHue | 0 |
GreenSaturation | 0 |
HasCrop | True |
HasSettings | True |
HierarchicalSubject | Aves, Dendrocopos major, Fugl, Geografi, Geografi|Norge, Geografi|Norge|Hedmark, Geografi|Norge|Hedmark|Trysil|Midtskogsberget, NO-FUGLER-EUROPA_ver20090210_©NATURFOKUS|DYR|Fugler, NO-FUGLER-EUROPA_ver20090210_©NATURFOKUS|DYR|Fugler|Hakkespetter, NO-FUGLER-EUROPA_ver20090210_©NATURFOKUS|DYR|Fugler|Hakkespetter|Flaggspett, Picidae, Spetter, Trysil |
HighlightRecovery | 0 |
HueAdjustmentAqua | 0 |
HueAdjustmentBlue | 0 |
HueAdjustmentGreen | 0 |
HueAdjustmentMagenta | 0 |
HueAdjustmentOrange | 0 |
HueAdjustmentPurple | 0 |
HueAdjustmentRed | 0 |
HueAdjustmentYellow | 0 |
HyperfocalDistance | 1572.58 m |
ImageHeight | 753 |
ImageNumber | 14790 |
ImageSize | 1000x753 |
ImageWidth | 1000 |
ISO | 400 |
Keywords | Aves, DYR, Dendrocopos major, Flaggspett, Fugl, Fugler, Geografi, Hakkespetter, Hedmark, Midtskogsberget, NO-FUGLER-EUROPA_ver20090210_©NATURFOKUS, Norge, Picidae, Spetter, Trysil |
Lens | 300.0 mm f/4.0 |
LensInfo | 300mm f/4 |
LightSource | Unknown |
LightValue | 9.9 |
LuminanceAdjustmentAqua | 0 |
LuminanceAdjustmentBlue | 0 |
LuminanceAdjustmentGreen | 0 |
LuminanceAdjustmentMagenta | 0 |
LuminanceAdjustmentOrange | 0 |
LuminanceAdjustmentPurple | 0 |
LuminanceAdjustmentRed | 0 |
LuminanceAdjustmentYellow | 0 |
LuminanceSmoothing | 0 |
Make | NIKON CORPORATION |
MaxApertureValue | 5.7 |
Megapixels | 0.753 |
MeteringMode | Spot |
Model | NIKON D300 |
ModifyDate (1) | 2009:03:01 23:37:21+01:00 |
ModifyDate | 2009:03:01 23:37:21 |
Orientation | Horizontal (normal) |
ParametricDarks | 0 |
ParametricHighlights | 0 |
ParametricHighlightSplit | 75 |
ParametricLights | 0 |
ParametricMidtoneSplit | 50 |
ParametricShadows | 0 |
ParametricShadowSplit | 25 |
PostCropVignetteAmount | 0 |
ProfileDescription | sRGB IEC61966-2.1 |
Rating | 5 |
RedHue | 0 |
RedSaturation | 0 |
Rights | Eli Brager |
Saturation (2) | 0 |
Saturation | Normal |
SaturationAdjustmentAqua | 0 |
SaturationAdjustmentBlue | 0 |
SaturationAdjustmentGreen | 0 |
SaturationAdjustmentMagenta | 0 |
SaturationAdjustmentOrange | 0 |
SaturationAdjustmentPurple | 0 |
SaturationAdjustmentRed | 0 |
SaturationAdjustmentYellow | 0 |
SavedSettingsName | Import |
SavedSettingsParametersBlueHue | 0 |
SavedSettingsParametersBlueSaturation | 0 |
SavedSettingsParametersBrightness | 0 |
SavedSettingsParametersCameraProfile | Embedded |
SavedSettingsParametersChromaticAberrationB | 0 |
SavedSettingsParametersChromaticAberrationR | 0 |
SavedSettingsParametersClarity | 0 |
SavedSettingsParametersColorNoiseReduction | 0 |
SavedSettingsParametersContrast | 0 |
SavedSettingsParametersConvertToGrayscale | False |
SavedSettingsParametersDefringe | 0 |
SavedSettingsParametersExposure | 0.00 |
SavedSettingsParametersFillLight | 0 |
SavedSettingsParametersGreenHue | 0 |
SavedSettingsParametersGreenSaturation | 0 |
SavedSettingsParametersHighlightRecovery | 0 |
SavedSettingsParametersHueAdjustmentAqua | 0 |
SavedSettingsParametersHueAdjustmentBlue | 0 |
SavedSettingsParametersHueAdjustmentGreen | 0 |
SavedSettingsParametersHueAdjustmentMagenta | 0 |
SavedSettingsParametersHueAdjustmentOrange | 0 |
SavedSettingsParametersHueAdjustmentPurple | 0 |
SavedSettingsParametersHueAdjustmentRed | 0 |
SavedSettingsParametersHueAdjustmentYellow | 0 |
SavedSettingsParametersIncrementalTemperature | 0 |
SavedSettingsParametersIncrementalTint | 0 |
SavedSettingsParametersLuminanceAdjustmentAqua | 0 |
SavedSettingsParametersLuminanceAdjustmentBlue | 0 |
SavedSettingsParametersLuminanceAdjustmentGreen | 0 |
SavedSettingsParametersLuminanceAdjustmentMagenta | 0 |
SavedSettingsParametersLuminanceAdjustmentOrange | 0 |
SavedSettingsParametersLuminanceAdjustmentPurple | 0 |
SavedSettingsParametersLuminanceAdjustmentRed | 0 |
SavedSettingsParametersLuminanceAdjustmentYellow | 0 |
SavedSettingsParametersLuminanceSmoothing | 0 |
SavedSettingsParametersParametricDarks | 0 |
SavedSettingsParametersParametricHighlights | 0 |
SavedSettingsParametersParametricHighlightSplit | 75 |
SavedSettingsParametersParametricLights | 0 |
SavedSettingsParametersParametricMidtoneSplit | 50 |
SavedSettingsParametersParametricShadows | 0 |
SavedSettingsParametersParametricShadowSplit | 25 |
SavedSettingsParametersPostCropVignetteAmount | 0 |
SavedSettingsParametersRedHue | 0 |
SavedSettingsParametersRedSaturation | 0 |
SavedSettingsParametersSaturation | 0 |
SavedSettingsParametersSaturationAdjustmentAqua | 0 |
SavedSettingsParametersSaturationAdjustmentBlue | 0 |
SavedSettingsParametersSaturationAdjustmentGreen | 0 |
SavedSettingsParametersSaturationAdjustmentMagenta | 0 |
SavedSettingsParametersSaturationAdjustmentOrange | 0 |
SavedSettingsParametersSaturationAdjustmentPurple | 0 |
SavedSettingsParametersSaturationAdjustmentRed | 0 |
SavedSettingsParametersSaturationAdjustmentYellow | 0 |
SavedSettingsParametersShadows | 0 |
SavedSettingsParametersShadowTint | 0 |
SavedSettingsParametersSharpenDetail | 25 |
SavedSettingsParametersSharpenEdgeMasking | 0 |
SavedSettingsParametersSharpenRadius | +1.0 |
SavedSettingsParametersSharpness | 0 |
SavedSettingsParametersSplitToningBalance | 0 |
SavedSettingsParametersSplitToningHighlightHue | 0 |
SavedSettingsParametersSplitToningHighlightSaturation | 0 |
SavedSettingsParametersSplitToningShadowHue | 0 |
SavedSettingsParametersSplitToningShadowSaturation | 0 |
SavedSettingsParametersToneCurve | 0, 0, 255, 255 |
SavedSettingsParametersToneCurveName | Linear |
SavedSettingsParametersVersion | 5.2 |
SavedSettingsParametersVibrance | 0 |
SavedSettingsParametersVignetteAmount | 0 |
SavedSettingsParametersWhiteBalance | As Shot |
SavedSettingsType | Snapshot |
ScaleFactor35efl | 1.5 |
SceneCaptureType | Standard |
SceneType | Directly photographed |
SensingMethod | One-chip color area |
SerialNumber | 4105460 |
Shadows | 8 |
ShadowTint | 0 |
SharpenDetail | 39 |
SharpenEdgeMasking | 20 |
SharpenRadius | +1.7 |
Sharpness (2) | 73 |
Sharpness | Hard |
ShutterSpeed | 1/125 |
ShutterSpeedValue | 1/125 |
Software | Ver.1.00 |
SplitToningBalance | 0 |
SplitToningHighlightHue | 0 |
SplitToningHighlightSaturation | 0 |
SplitToningShadowHue | 0 |
SplitToningShadowSaturation | 0 |
Subject | Aves, DYR, Dendrocopos major, Flaggspett, Fugl, Fugler, Geografi, Hakkespetter, Hedmark, Midtskogsberget, NO-FUGLER-EUROPA_ver20090210_©NATURFOKUS, Norge, Picidae, Spetter, Trysil |
SubjectDistanceRange | Unknown |
Tint | +5 |
ToneCurve | 0, 0, 32, 22, 64, 56, 128, 128, 192, 196, 255, 255 |
ToneCurveName | Medium Contrast |
Version | 5.2 |
Vibrance | +45 |
VignetteAmount | 0 |
WhiteBalance (2) | As Shot |
WhiteBalance | Auto |