Felt | Verdi |
AlreadyApplied | True |
Aperture | 7.1 |
ApertureValue | 7.1 |
BitsPerSample (1) | 16, 16, 16 |
BitsPerSample (2) | 16 16 16 |
BitsPerSample | 8 |
BlueHue | 0 |
BlueSaturation | 0 |
Brightness | +46 |
CameraProfile | Adobe Standard |
ChromaticAberrationB | 0 |
ChromaticAberrationR | 0 |
CircleOfConfusion | 0.031 mm |
Clarity | +12 |
ColorComponents | 3 |
ColorMode | RGB |
ColorNoiseReduction | 25 |
ColorSpace | sRGB |
ColorTemperature | 5450 |
Contrast | +36 |
ConvertToGrayscale | False |
CopyrightFlag | False |
CreateDate (1) | 2009:03:28 21:00:43+01:00 |
CreateDate | 2009:03:25 08:50:36 |
CreatorTool | Adobe Photoshop CS3 Windows |
CropAngle | 0.005285 |
CropBottom | 1 |
CropHeight | 3621 |
CropLeft | 0.038198 |
CropRight | 0.79514 |
CropTop | 0.032805 |
CropUnit | pixels |
CropWidth | 4251 |
CustomRendered | Normal |
DateTimeDigitized | 2009:03:25 08:50:36.35+01:00 |
DateTimeOriginal (1) | 2009:03:25 08:50:36.35+01:00 |
DateTimeOriginal | 2009:03:25 08:50:36 |
Defringe | 0 |
ExifImageHeight | 857 |
ExifImageWidth | 1024 |
Exposure | -0.19 |
ExposureCompensation | +1/3 |
ExposureMode | Auto |
ExposureProgram | Aperture-priority AE |
ExposureTime | 1/1000 |
FillLight | 27 |
Firmware | 1.0.7 |
Flash | Off, Did not fire |
FlashCompensation | 0 |
FlashFired | False |
FlashFunction | False |
FlashMode | Off |
FlashRedEyeMode | False |
FlashReturn | No return detection |
FNumber | 7.1 |
FocalLength | 400.0 mm |
FocalLength35efl | 400.0 mm (35 mm equivalent: 390.4 mm) |
Format | image/jpeg |
FOV | 5.3 deg |
GreenHue | 0 |
GreenSaturation | 0 |
HasCrop | True |
HasSettings | True |
HighlightRecovery | 56 |
HueAdjustmentAqua | 0 |
HueAdjustmentBlue | 0 |
HueAdjustmentGreen | 0 |
HueAdjustmentMagenta | 0 |
HueAdjustmentOrange | 0 |
HueAdjustmentPurple | 0 |
HueAdjustmentRed | 0 |
HueAdjustmentYellow | 0 |
HyperfocalDistance | 731.97 m |
ICCProfileName | sRGB IEC61966-2.1 |
ImageHeight (1) | 3558 |
ImageHeight (2) | 3621 |
ImageHeight | 857 |
ImageNumber | 0 |
ImageSize | 1024x857 |
ImageWidth (1) | 4251 |
ImageWidth | 1024 |
ISO | 400 |
Lens | EF100-400mm f/4.5-5.6L IS USM |
LensInfo | 100-400mm f/? |
LightValue | 13.6 |
LuminanceAdjustmentAqua | -21 |
LuminanceAdjustmentBlue | -21 |
LuminanceAdjustmentGreen | 0 |
LuminanceAdjustmentMagenta | 0 |
LuminanceAdjustmentOrange | 0 |
LuminanceAdjustmentPurple | 0 |
LuminanceAdjustmentRed | 0 |
LuminanceAdjustmentYellow | 0 |
LuminanceSmoothing | 26 |
Make | Canon |
MaxApertureValue | 5.7 |
Megapixels | 0.878 |
MeteringMode | Multi-segment |
Model | Canon EOS 5D Mark II |
ModifyDate (1) | 2009:03:28 21:00:43+01:00 |
ModifyDate | 2009:03:28 21:00:43 |
Orientation | Horizontal (normal) |
ParametricDarks | 0 |
ParametricHighlights | -10 |
ParametricHighlightSplit | 75 |
ParametricLights | -74 |
ParametricMidtoneSplit | 50 |
ParametricShadows | -5 |
ParametricShadowSplit | 25 |
PhotometricInterpretation | RGB |
PlanarConfiguration | Chunky |
PostCropVignetteAmount | 0 |
ProfileDescription | sRGB IEC61966-2.1 |
RedHue | 0 |
RedSaturation | 0 |
SamplesPerPixel | 3 |
Saturation | +7 |
SaturationAdjustmentAqua | +12 |
SaturationAdjustmentBlue | +36 |
SaturationAdjustmentGreen | 0 |
SaturationAdjustmentMagenta | -21 |
SaturationAdjustmentOrange | -7 |
SaturationAdjustmentPurple | -26 |
SaturationAdjustmentRed | +5 |
SaturationAdjustmentYellow | +17 |
ScaleFactor35efl | 1.0 |
SceneCaptureType | Standard |
SerialNumber | 530320270 |
Shadows | 5 |
ShadowTint | 0 |
SharpenDetail | 30 |
SharpenEdgeMasking | 12 |
SharpenRadius | +1.0 |
Sharpness | 48 |
ShutterSpeed | 1/1000 |
ShutterSpeedValue | 1/1000 |
Software | Adobe Photoshop CS3 Windows |
SplitToningBalance | 0 |
SplitToningHighlightHue | 0 |
SplitToningHighlightSaturation | 0 |
SplitToningShadowHue | 0 |
SplitToningShadowSaturation | 0 |
Tint | +11 |
ToneCurve | 0, 0, 32, 22, 64, 56, 128, 128, 192, 196, 255, 255 |
ToneCurveName | Medium Contrast |
URL_List | |
Version | 5.3 |
Vibrance | +48 |
VignetteAmount | 0 |
WhiteBalance (2) | As Shot |
WhiteBalance | Auto |