Felt | Verdi |
AlreadyApplied | True |
Aperture | 7.1 |
ApertureValue | 7.1 |
BitsPerSample (1) | 16, 16, 16 |
BitsPerSample (2) | 16 16 16 |
BitsPerSample | 8 |
BlueHue | 0 |
BlueSaturation | 0 |
Brightness | +39 |
CameraProfile | Adobe Standard |
ChromaticAberrationB | 0 |
ChromaticAberrationR | 0 |
CircleOfConfusion | 0.031 mm |
Clarity | +10 |
ColorComponents | 3 |
ColorMode | RGB |
ColorNoiseReduction | 5 |
ColorSpace | sRGB |
ColorTemperature | 4976 |
Contrast | +39 |
ConvertToGrayscale | False |
CopyrightFlag | False |
CreateDate (1) | 2009:06:06 17:15:25+02:00 |
CreateDate | 2009:06:01 19:18:25 |
CreatorTool | Adobe Photoshop CS3 Windows |
CropAngle | 0 |
CropBottom | 1 |
CropHeight | 3545 |
CropLeft | 0 |
CropRight | 0.873749 |
CropTop | 0.053118 |
CropUnit | pixels |
CropWidth | 4907 |
CustomRendered | Normal |
DateTimeDigitized | 2009:06:01 19:18:25.41+02:00 |
DateTimeOriginal (1) | 2009:06:01 19:18:25.41+02:00 |
DateTimeOriginal | 2009:06:01 19:18:25 |
Defringe | 0 |
ExifImageHeight | 740 |
ExifImageWidth | 1024 |
Exposure | -0.10 |
ExposureCompensation | 0 |
ExposureMode | Auto |
ExposureProgram | Aperture-priority AE |
ExposureTime | 1/100 |
FillLight | 5 |
Firmware | 1.0.7 |
Flash | Off, Did not fire |
FlashCompensation | 0 |
FlashFired | False |
FlashFunction | False |
FlashMode | Off |
FlashRedEyeMode | False |
FlashReturn | No return detection |
FNumber | 7.1 |
FocalLength | 250.0 mm |
FocalLength35efl | 250.0 mm (35 mm equivalent: 244.0 mm) |
Format | image/jpeg |
FOV | 8.4 deg |
GreenHue | 0 |
GreenSaturation | 0 |
HasCrop | True |
HasSettings | True |
HighlightRecovery | 55 |
HueAdjustmentAqua | 0 |
HueAdjustmentBlue | 0 |
HueAdjustmentGreen | 0 |
HueAdjustmentMagenta | 0 |
HueAdjustmentOrange | 0 |
HueAdjustmentPurple | 0 |
HueAdjustmentRed | 0 |
HueAdjustmentYellow | 0 |
HyperfocalDistance | 285.93 m |
ICCProfileName | sRGB IEC61966-2.1 |
ImageHeight (1) | 3508 |
ImageHeight (2) | 3545 |
ImageHeight | 740 |
ImageNumber | 0 |
ImageSize | 1024x740 |
ImageWidth (1) | 4854 |
ImageWidth (2) | 4907 |
ImageWidth | 1024 |
ISO | 400 |
Lens | EF100-400mm f/4.5-5.6L IS USM |
LensInfo | 100-400mm f/? |
LightValue | 10.3 |
LuminanceAdjustmentAqua | 0 |
LuminanceAdjustmentBlue | 0 |
LuminanceAdjustmentGreen | 0 |
LuminanceAdjustmentMagenta | 0 |
LuminanceAdjustmentOrange | -5 |
LuminanceAdjustmentPurple | 0 |
LuminanceAdjustmentRed | -2 |
LuminanceAdjustmentYellow | 0 |
LuminanceSmoothing | 25 |
Make | Canon |
MaxApertureValue | 4.6 |
Megapixels | 0.758 |
MeteringMode | Multi-segment |
Model | Canon EOS 5D Mark II |
ModifyDate (1) | 2009:06:06 17:16:21+02:00 |
ModifyDate | 2009:06:06 17:16:21 |
Orientation | Horizontal (normal) |
ParametricDarks | 0 |
ParametricHighlights | -12 |
ParametricHighlightSplit | 75 |
ParametricLights | -10 |
ParametricMidtoneSplit | 50 |
ParametricShadows | 0 |
ParametricShadowSplit | 25 |
PhotometricInterpretation | RGB |
PlanarConfiguration | Chunky |
PostCropVignetteAmount | 0 |
ProfileDescription | sRGB IEC61966-2.1 |
RedHue | 0 |
RedSaturation | 0 |
SamplesPerPixel | 3 |
Saturation | 0 |
SaturationAdjustmentAqua | 0 |
SaturationAdjustmentBlue | 0 |
SaturationAdjustmentGreen | 0 |
SaturationAdjustmentMagenta | 0 |
SaturationAdjustmentOrange | -2 |
SaturationAdjustmentPurple | 0 |
SaturationAdjustmentRed | +2 |
SaturationAdjustmentYellow | 0 |
ScaleFactor35efl | 1.0 |
SceneCaptureType | Standard |
SerialNumber | 530320270 |
Shadows | 1 |
ShadowTint | 0 |
SharpenDetail | 29 |
SharpenEdgeMasking | 11 |
SharpenRadius | +1.0 |
Sharpness | 55 |
ShutterSpeed | 1/100 |
ShutterSpeedValue | 1/100 |
Software | Adobe Photoshop CS3 Windows |
SplitToningBalance | 0 |
SplitToningHighlightHue | 0 |
SplitToningHighlightSaturation | 0 |
SplitToningShadowHue | 0 |
SplitToningShadowSaturation | 0 |
Tint | 0 |
ToneCurve | 0, 0, 32, 22, 64, 56, 128, 128, 192, 196, 255, 255 |
ToneCurveName | Medium Contrast |
URL_List | |
Version | 5.3 |
Vibrance | -5 |
VignetteAmount | 0 |
WhiteBalance (2) | Custom |
WhiteBalance | Auto |