Felt | Verdi |
AlreadyApplied | True |
Aperture | 3.2 |
ApertureValue | 3.2 |
Artist | Marius Bostrand |
BitsPerSample | 8 |
BlueHue | 0 |
BlueSaturation | -15 |
Brightness | +50 |
By-line | Marius Bostrand |
CameraProfile | ACR 4.4 |
ChromaticAberrationB | 0 |
ChromaticAberrationR | 0 |
CircleOfConfusion | 0.019 mm |
Clarity | 0 |
ColorComponents | 3 |
ColorMode | RGB |
ColorNoiseReduction | 2 |
ColorSpace | Uncalibrated |
ColorTemperature | 4700 |
Contrast | +25 |
ConvertToGrayscale | False |
CreateDate (1) | 2009:06:27 17:15:08.17+02:00 |
CreateDate | 2009:06:27 17:15:08 |
Creator | Marius Bostrand |
CropAngle | 0 |
CropBottom | 0.848765 |
CropLeft | 0.168724 |
CropRight | 0.788066 |
CropTop | 0.188272 |
CustomRendered | Normal |
DateTimeDigitized | 2009:06:27 17:15:08.17+02:00 |
DateTimeOriginal (1) | 2009:06:27 17:15:08.17+02:00 |
DateTimeOriginal | 2009:06:27 17:15:08 |
Defringe | 0 |
ExifImageHeight | 1097 |
ExifImageWidth | 780 |
Exposure | 0.00 |
ExposureCompensation | 0 |
ExposureMode | Manual |
ExposureProgram | Manual |
ExposureTime | 1/6400 |
FillLight | 0 |
Firmware | 1.0.3 |
Flash | Off, Did not fire |
FlashCompensation | 0 |
FlashFired | False |
FlashFunction | False |
FlashMode | Off |
FlashRedEyeMode | False |
FlashReturn | No return detection |
FNumber | 3.2 |
FocalLength | 195.0 mm |
FocalLength35efl | 195.0 mm (35 mm equivalent: 315.7 mm) |
Format | image/jpeg |
FOV | 6.5 deg |
GreenHue | 0 |
GreenSaturation | +12 |
HasCrop | True |
HasSettings | True |
HighlightRecovery | 0 |
HueAdjustmentAqua | 0 |
HueAdjustmentBlue | 0 |
HueAdjustmentGreen | 0 |
HueAdjustmentMagenta | 0 |
HueAdjustmentOrange | -13 |
HueAdjustmentPurple | 0 |
HueAdjustmentRed | +10 |
HueAdjustmentYellow | 0 |
HyperfocalDistance | 640.21 m |
ICCProfileName | Adobe RGB (1998) |
ImageHeight | 1097 |
ImageNumber | 0 |
ImageSize | 780x1097 |
ImageWidth | 780 |
ISO | 1250 |
Lens | EF70-200mm f/2.8L USM |
LensInfo | 70-200mm f/? |
LightValue | 12.4 |
LuminanceAdjustmentAqua | 0 |
LuminanceAdjustmentBlue | 0 |
LuminanceAdjustmentGreen | 0 |
LuminanceAdjustmentMagenta | 0 |
LuminanceAdjustmentOrange | 0 |
LuminanceAdjustmentPurple | 0 |
LuminanceAdjustmentRed | 0 |
LuminanceAdjustmentYellow | 0 |
LuminanceSmoothing | 0 |
Make | Canon |
MaxApertureValue | 2.8 |
Megapixels | 0.856 |
MeteringMode | Spot |
Model | Canon EOS 40D |
ModifyDate (1) | 2009:07:02 23:36:32+02:00 |
ModifyDate | 2009:07:02 23:36:32 |
Orientation | Horizontal (normal) |
OwnerName | Marius Bostrand |
ParametricDarks | -8 |
ParametricHighlights | -10 |
ParametricHighlightSplit | 75 |
ParametricLights | +17 |
ParametricMidtoneSplit | 50 |
ParametricShadows | -28 |
ParametricShadowSplit | 25 |
PostCropVignetteAmount | 0 |
ProfileDescription | Adobe RGB (1998) |
Rating | 0 |
RawFileName | IMG_3829.CR2 |
RedHue | 0 |
RedSaturation | +7 |
Saturation | 0 |
SaturationAdjustmentAqua | 0 |
SaturationAdjustmentBlue | 0 |
SaturationAdjustmentGreen | 0 |
SaturationAdjustmentMagenta | 0 |
SaturationAdjustmentOrange | 0 |
SaturationAdjustmentPurple | 0 |
SaturationAdjustmentRed | 0 |
SaturationAdjustmentYellow | 0 |
ScaleFactor35efl | 1.6 |
SceneCaptureType | Standard |
SerialNumber | 530228275 |
Shadows | 5 |
ShadowTint | 0 |
SharpenDetail | 25 |
SharpenEdgeMasking | 0 |
SharpenRadius | +1.2 |
Sharpness | 35 |
ShutterSpeed | 1/6400 |
ShutterSpeedValue | 1/6400 |
Software | Adobe Photoshop CS4 Macintosh |
SplitToningBalance | -100 |
SplitToningHighlightHue | 75 |
SplitToningHighlightSaturation | 11 |
SplitToningShadowHue | 71 |
SplitToningShadowSaturation | 7 |
Tint | +11 |
ToneCurve | 0, 0, 32, 22, 64, 56, 128, 128, 192, 196, 255, 255 |
ToneCurveName | Medium Contrast |
URL_List | |
Version | 5.0 |
Vibrance | 0 |
VignetteAmount | 0 |
WhiteBalance (2) | As Shot |
WhiteBalance | Auto |