Felt | Verdi |
AlreadyApplied | True |
Aperture | 8.0 |
ApertureValue | 8.0 |
BitsPerSample | 8 |
BlueHue | 0 |
BlueSaturation | 0 |
Brightness | +26 |
CameraProfile | ACR 4.4 |
ChromaticAberrationB | 0 |
ChromaticAberrationR | 0 |
CircleOfConfusion | 0.020 mm |
Clarity | +21 |
ColorComponents | 3 |
ColorMode | RGB |
ColorNoiseReduction | 25 |
ColorSpace | sRGB |
ColorTemperature | 5500 |
Contrast (2) | +36 |
Contrast | High |
ConvertToGrayscale | False |
CreateDate (1) | 2009:08:05 23:49:37+02:00 |
CreateDate | 2009:08:05 23:49:37 |
CreatorTool | K10D Ver 1.30 |
CropAngle | 0.920619 |
CropBottom | 0.999626 |
CropLeft | 0.018724 |
CropRight | 0.984416 |
CropTop | 0 |
CustomRendered | Normal |
DateTimeDigitized | 2009:08:05 23:49:37+02:00 |
DateTimeOriginal (1) | 2009:08:05 23:49:37+02:00 |
DateTimeOriginal | 2009:08:05 23:49:37 |
Defringe | 0 |
ExifImageHeight | 685 |
ExifImageWidth | 1024 |
Exposure | 0.00 |
ExposureCompensation | 0 |
ExposureMode | Manual |
ExposureProgram | Manual |
ExposureTime | 1/25 |
FillLight | 0 |
Flash | Off, Did not fire |
FlashFired | False |
FlashFunction | False |
FlashMode | Off |
FlashRedEyeMode | False |
FlashReturn | No return detection |
FNumber | 8.0 |
FocalLength | 16.0 mm |
FocalLength35efl | 16.0 mm (35 mm equivalent: 24.0 mm) |
FocalLengthIn35mmFormat | 24 mm |
Format | image/jpeg |
FOV | 73.7 deg |
GreenHue | 0 |
GreenSaturation | 0 |
HasCrop | True |
HasSettings | True |
HighlightRecovery | 0 |
HueAdjustmentAqua | 0 |
HueAdjustmentBlue | 0 |
HueAdjustmentGreen | 0 |
HueAdjustmentMagenta | 0 |
HueAdjustmentOrange | 0 |
HueAdjustmentPurple | 0 |
HueAdjustmentRed | 0 |
HueAdjustmentYellow | 0 |
HyperfocalDistance | 1.60 m |
ICCProfileName | sRGB IEC61966-2.1 |
ImageHeight | 685 |
ImageSize | 1024x685 |
ImageWidth | 1024 |
ISO | 200 |
Lens | Tamron 35-90mm F4 AF or various SIGMA models |
LensID (1) | 3 44 |
LensID | Sigma AF 10-20mm F4-5.6 EX DC or Sigma 12-24mm F4.5-5.6 EX DG |
LightValue | 9.6 |
LuminanceAdjustmentAqua | 0 |
LuminanceAdjustmentBlue | 0 |
LuminanceAdjustmentGreen | 0 |
LuminanceAdjustmentMagenta | 0 |
LuminanceAdjustmentOrange | 0 |
LuminanceAdjustmentPurple | 0 |
LuminanceAdjustmentRed | 0 |
LuminanceAdjustmentYellow | 0 |
LuminanceSmoothing | 0 |
Make | PENTAX Corporation |
Megapixels | 0.701 |
MeteringMode | Multi-segment |
Model | PENTAX K10D |
ModifyDate (1) | 2009:08:06 01:04:24+02:00 |
ModifyDate | 2009:08:06 01:04:24 |
Orientation | Horizontal (normal) |
ParametricDarks | 0 |
ParametricHighlights | 0 |
ParametricHighlightSplit | 75 |
ParametricLights | 0 |
ParametricMidtoneSplit | 50 |
ParametricShadows | 0 |
ParametricShadowSplit | 25 |
PostCropVignetteAmount | 0 |
ProfileDescription | sRGB IEC61966-2.1 |
Rating | 0 |
RawFileName | _IGP2790.DNG |
RedHue | 0 |
RedSaturation | 0 |
Saturation (2) | 0 |
Saturation | High |
SaturationAdjustmentAqua | 0 |
SaturationAdjustmentBlue | 0 |
SaturationAdjustmentGreen | 0 |
SaturationAdjustmentMagenta | 0 |
SaturationAdjustmentOrange | 0 |
SaturationAdjustmentPurple | 0 |
SaturationAdjustmentRed | 0 |
SaturationAdjustmentYellow | 0 |
ScaleFactor35efl | 1.5 |
SceneCaptureType | Standard |
SensingMethod | One-chip color area |
Shadows | 0 |
ShadowTint | 0 |
SharpenDetail | 25 |
SharpenEdgeMasking | 0 |
SharpenRadius | +1.0 |
Sharpness (2) | 0 |
Sharpness | Normal |
ShutterSpeed | 1/25 |
ShutterSpeedValue | 1/25 |
Software | Adobe Photoshop CS4 Windows |
SplitToningBalance | 0 |
SplitToningHighlightHue | 0 |
SplitToningHighlightSaturation | 0 |
SplitToningShadowHue | 0 |
SplitToningShadowSaturation | 0 |
SubjectDistanceRange | Distant |
Tint | +10 |
ToneCurve | 0, 0, 22, 12, 217, 226, 255, 255 |
ToneCurveName | Custom |
URL_List | |
Version | 5.0 |
Vibrance | +16 |
VignetteAmount | +25 |
VignetteMidpoint | 50 |
WhiteBalance (2) | Daylight |
WhiteBalance | Manual |