Felt | Verdi |
AlreadyApplied | True |
Aperture | 4.0 |
ApertureValue | 4.0 |
BitsPerSample (1) | 16, 16, 16 |
BitsPerSample (2) | 16 16 16 |
BitsPerSample | 8 |
BlueHue | 0 |
BlueSaturation | 0 |
Brightness | +50 |
CameraProfile | Adobe Standard |
ChromaticAberrationB | 0 |
ChromaticAberrationR | 0 |
CircleOfConfusion | 0.031 mm |
Clarity | +17 |
ColorComponents | 3 |
ColorMode | RGB |
ColorNoiseReduction | 25 |
ColorSpace | sRGB |
ColorTemperature | 5691 |
Contrast | +41 |
ConvertToGrayscale | False |
CreateDate (1) | 2010:02:10 15:00:16.92+01:00 |
CreateDate | 2010:02:10 15:00:16 |
CreatorTool | Adobe Photoshop Lightroom |
CropAngle | 0 |
CropBottom | 0.939759 |
CropHeight | 2761 |
CropLeft | 0.216867 |
CropRight | 0.969478 |
CropTop | 0.20241 |
CropUnit | pixels |
CropWidth | 4227 |
CustomRendered | Normal |
DateTimeDigitized | 2010:02:10 15:00:16.92+01:00 |
DateTimeOriginal (1) | 2010:02:10 15:00:16.92+01:00 |
DateTimeOriginal | 2010:02:10 15:00:16 |
Defringe | 0 |
DOF | 0.63 m (20.09 - 20.72 m) |
ExifImageHeight | 669 |
ExifImageWidth | 1024 |
Exposure | 0.00 |
ExposureCompensation | +1 |
ExposureMode | Auto |
ExposureProgram | Aperture-priority AE |
ExposureTime | 1/640 |
FillLight | 35 |
Firmware | 1.2.4 |
Flash | Off, Did not fire |
FlashCompensation | 0 |
FlashFired | False |
FlashFunction | False |
FlashMode | Off |
FlashRedEyeMode | False |
FlashReturn | No return detection |
FNumber | 4.0 |
FocalLength | 400.0 mm |
FocalLength35efl | 400.0 mm (35 mm equivalent: 390.4 mm) |
Format | image/jpeg |
FOV | 5.3 deg |
GreenHue | 0 |
GreenSaturation | 0 |
HasCrop | True |
HasSettings | True |
HighlightRecovery | 0 |
HueAdjustmentAqua | 0 |
HueAdjustmentBlue | 0 |
HueAdjustmentGreen | 0 |
HueAdjustmentMagenta | 0 |
HueAdjustmentOrange | 0 |
HueAdjustmentPurple | 0 |
HueAdjustmentRed | 0 |
HueAdjustmentYellow | 0 |
HyperfocalDistance | 1299.25 m |
ICCProfileName | sRGB IEC61966-2.1 |
ImageHeight (2) | 2761 |
ImageHeight | 669 |
ImageNumber | 0 |
ImageSize | 1024x669 |
ImageWidth (1) | 4227 |
ImageWidth | 1024 |
ISO | 400 |
Lens | EF400mm f/2.8L IS USM |
LensID (1) | 184 |
LensID | Canon EF 400mm f/2.8L USM + 2x |
LensInfo | 400mm f/? |
LightValue | 11.3 |
LuminanceAdjustmentAqua | -21 |
LuminanceAdjustmentBlue | -19 |
LuminanceAdjustmentGreen | 0 |
LuminanceAdjustmentMagenta | 0 |
LuminanceAdjustmentOrange | 0 |
LuminanceAdjustmentPurple | 0 |
LuminanceAdjustmentRed | 0 |
LuminanceAdjustmentYellow | 0 |
LuminanceSmoothing | 15 |
Make | Canon |
MaxApertureValue | 2.8 |
Megapixels | 0.685 |
MeteringMode | Multi-segment |
Model | Canon EOS 5D Mark II |
ModifyDate (1) | 2010:02:13 16:31:29+01:00 |
ModifyDate | 2010:02:13 16:31:29 |
Orientation | Horizontal (normal) |
ParametricDarks | -5 |
ParametricHighlights | -5 |
ParametricHighlightSplit | 75 |
ParametricLights | -5 |
ParametricMidtoneSplit | 50 |
ParametricShadows | -5 |
ParametricShadowSplit | 25 |
PhotometricInterpretation | RGB |
PlanarConfiguration | Chunky |
PostCropVignetteAmount | 0 |
ProfileDescription | sRGB IEC61966-2.1 |
RedHue | 0 |
RedSaturation | 0 |
SamplesPerPixel | 3 |
Saturation | 0 |
SaturationAdjustmentAqua | -31 |
SaturationAdjustmentBlue | -36 |
SaturationAdjustmentGreen | 0 |
SaturationAdjustmentMagenta | 0 |
SaturationAdjustmentOrange | 0 |
SaturationAdjustmentPurple | 0 |
SaturationAdjustmentRed | 0 |
SaturationAdjustmentYellow | 0 |
ScaleFactor35efl | 1.0 |
SceneCaptureType | Standard |
SerialNumber | 530320270 |
Shadows | 5 |
ShadowTint | 0 |
SharpenDetail | 25 |
SharpenEdgeMasking | 0 |
SharpenRadius | +1.0 |
Sharpness | 55 |
ShutterSpeed | 1/640 |
ShutterSpeedValue | 1/640 |
Software | Adobe Photoshop CS4 Windows |
SplitToningBalance | 0 |
SplitToningHighlightHue | 0 |
SplitToningHighlightSaturation | 0 |
SplitToningShadowHue | 0 |
SplitToningShadowSaturation | 0 |
SubjectDistance | 20.4 m |
Tint | +5 |
ToneCurve | 0, 0, 32, 22, 64, 56, 128, 128, 192, 196, 255, 255 |
ToneCurveName | Medium Contrast |
URL_List | |
Version | 5.6 |
Vibrance | +7 |
VignetteAmount | 0 |
WhiteBalance (2) | Custom |
WhiteBalance | Auto |