Felt | Verdi |
AlreadyApplied | True |
Aperture | 6.3 |
ApertureValue | 6.3 |
Artist | Jan Erik Arud |
BitsPerSample | 8 |
BlueHue | 0 |
BlueSaturation | 0 |
Brightness | +50 |
By-line | Jan Erik Arud |
CameraProfile | Adobe Standard |
ChromaticAberrationB | 0 |
ChromaticAberrationR | 0 |
CircleOfConfusion | 0.023 mm |
Clarity | 0 |
ColorComponents | 3 |
ColorNoiseReduction | 25 |
ColorNoiseReductionDetail | 50 |
ColorTemperature | 5400 |
Contrast | +40 |
ConvertToGrayscale | False |
Copyright | Jan Erik Arud |
CopyrightFlag | True |
CopyrightNotice | Jan Erik Arud |
CreateDate (1) | 2010:07:29 10:39:44.36+02:00 |
CreateDate | 2010:07:29 10:39:44 |
Creator | Jan Erik Arud |
CreatorTool | Adobe Photoshop Lightroom |
CreatorWorkEmail | arud@bluezone.no |
CreatorWorkURL | http://www.flickr.com/photos/jarud/ |
CropAngle | -1.06176 |
CropBottom | 0.918977 |
CropConstrainToWarp | 0 |
CropHeight | 683 |
CropLeft | 0.072154 |
CropRight | 1 |
CropTop | 0.027945 |
CropUnit | pixels |
CropWidth | 1024 |
CustomRendered | Normal |
DateTimeDigitized | 2010:07:29 10:39:44.36+02:00 |
DateTimeOriginal (1) | 2010:07:29 10:39:44.36+02:00 |
DateTimeOriginal | 2010:07:29 10:39:44 |
Defringe | 0 |
DOF | inf (1194.13 m - inf) |
ExifImageHeight | 1024 |
ExifImageWidth | 683 |
Exposure | 0.00 |
ExposureCompensation | 0 |
ExposureMode | Manual |
ExposureProgram | Manual |
ExposureTime | 1/1000 |
FillLight | 21 |
Firmware | 1.3.0 |
Flash | Off, Did not fire |
FlashCompensation | 0 |
FlashFired | False |
FlashFunction | False |
FlashMode | Off |
FlashRedEyeMode | False |
FlashReturn | No return detection |
FNumber | 6.3 |
FocalLength | 420.0 mm |
FocalLength35efl | 420.0 mm (35 mm equivalent: 538.2 mm) |
FOV | 3.8 deg |
GradientBasedCorrActive | true |
GradientBasedCorrAmount | 1.000000 |
GradientBasedCorrBrightness | 0.025000 |
GradientBasedCorrClarity | -0.220000 |
GradientBasedCorrContrast | -0.149425 |
GradientBasedCorrExposure | -0.241379 |
GradientBasedCorrHue | 232.000000 |
GradientBasedCorrMaskFullX | 0.997566 |
GradientBasedCorrMaskFullY | 0.544081 |
GradientBasedCorrMaskValue | 1.000000 |
GradientBasedCorrMaskWhat | Mask/Gradient |
GradientBasedCorrMaskZeroX | 0.061803 |
GradientBasedCorrMaskZeroY | 0.594297 |
GradientBasedCorrSaturation (1) | -0.149425 |
GradientBasedCorrSaturation | 0.350000 |
GradientBasedCorrSharpness | -0.150000 |
GradientBasedCorrWhat | Correction |
GrainAmount | 0 |
GreenHue | 0 |
GreenSaturation | 0 |
HasCrop | True |
HasSettings | True |
HighlightRecovery | 60 |
HueAdjustmentAqua | 0 |
HueAdjustmentBlue | 0 |
HueAdjustmentGreen | 0 |
HueAdjustmentMagenta | 0 |
HueAdjustmentOrange | 0 |
HueAdjustmentPurple | 0 |
HueAdjustmentRed | 0 |
HueAdjustmentYellow | 0 |
HyperfocalDistance | 1194.13 m |
ImageHeight | 1024 |
ImageNumber | 0 |
ImageSize | 683x1024 |
ImageWidth | 683 |
ISO | 100 |
Label | Red |
Lens | EF300mm f/4L IS USM +1.4x |
LensID (1) | 177 |
LensID | Canon EF 300mm f/4L IS USM |
LensInfo | 300mm f/? |
LensManualDistortionAmount | 0 |
LensProfileEnable | 0 |
LensProfileSetup | LensDefaults |
LightValue | 15.3 |
LuminanceAdjustmentAqua | 0 |
LuminanceAdjustmentBlue | 0 |
LuminanceAdjustmentGreen | 0 |
LuminanceAdjustmentMagenta | 0 |
LuminanceAdjustmentOrange | 0 |
LuminanceAdjustmentPurple | 0 |
LuminanceAdjustmentRed | 0 |
LuminanceAdjustmentYellow | 0 |
LuminanceNoiseReductionContrast | 0 |
LuminanceNoiseReductionDetail | 50 |
LuminanceSmoothing | 8 |
Make | Canon |
Marked | True |
MaxApertureValue | 5.7 |
Megapixels | 0.699 |
MeteringMode | Partial |
Model | Canon EOS-1D Mark III |
ModifyDate (1) | 2010:07:30 14:20:15+02:00 |
ModifyDate | 2010:07:30 14:20:15 |
OwnerName | Jan Erik Arud |
ParametricDarks | -26 |
ParametricHighlights | 0 |
ParametricHighlightSplit | 75 |
ParametricLights | +11 |
ParametricMidtoneSplit | 50 |
ParametricShadows | 0 |
ParametricShadowSplit | 25 |
PerspectiveHorizontal | 0 |
PerspectiveRotate | 0.0 |
PerspectiveScale | 100 |
PerspectiveVertical | 0 |
PostCropVignetteAmount | 0 |
ProcessVersion | 5.7 |
ProfileDescription | sRGB IEC61966-2.1 |
RedHue | 0 |
RedSaturation | 0 |
Rights | Jan Erik Arud |
Saturation | 0 |
SaturationAdjustmentAqua | 0 |
SaturationAdjustmentBlue | 0 |
SaturationAdjustmentGreen | 0 |
SaturationAdjustmentMagenta | 0 |
SaturationAdjustmentOrange | 0 |
SaturationAdjustmentPurple | 0 |
SaturationAdjustmentRed | 0 |
SaturationAdjustmentYellow | 0 |
ScaleFactor35efl | 1.3 |
SceneCaptureType | Standard |
SerialNumber | 529067 |
Shadows | 5 |
ShadowTint | 0 |
SharpenDetail | 78 |
SharpenEdgeMasking | 0 |
SharpenRadius | +1.0 |
Sharpness | 50 |
ShutterSpeed | 1/1000 |
ShutterSpeedValue | 1/1000 |
SplitToningBalance | 0 |
SplitToningHighlightHue | 0 |
SplitToningHighlightSaturation | 0 |
SplitToningShadowHue | 0 |
SplitToningShadowSaturation | 0 |
SubjectDistance | 4294967295 m |
Tint | +8 |
ToneCurve | 0, 0, 32, 22, 64, 56, 128, 128, 192, 196, 255, 255 |
ToneCurveName | Medium Contrast |
Version | 6.1 |
Vibrance | +10 |
VignetteAmount | 0 |
WhiteBalance (2) | As Shot |
WhiteBalance | Auto |