Felt | Verdi |
AlreadyApplied | True |
Aperture | 5.6 |
ApertureValue | 5.6 |
ApproximateFocusDistance | 3.72 |
BitsPerSample | 8 |
BlueHue | 0 |
BlueSaturation | 0 |
Brightness | 0 |
By-line | Steinar Vik |
CameraProfile | Embedded |
ChromaticAberrationB | 0 |
ChromaticAberrationR | 0 |
CircleOfConfusion | 0.019 mm |
Clarity | +26 |
ColorComponents | 3 |
ColorNoiseReduction | 55 |
ColorNoiseReductionDetail | 50 |
Contrast | -9 |
ConvertToGrayscale | False |
Copyright | Steinar Vik |
CopyrightFlag | True |
CopyrightNotice | Steinar Vik |
CreateDate (1) | 2010:12:26 15:25:01.00+01:00 |
CreateDate | 2010:12:26 15:25:01 |
Creator | Steinar Vik |
CreatorTool | Adobe Photoshop Lightroom |
CustomRendered | Normal |
DateCreated (1) | 2010:12:26 |
DateCreated | 2010:12:26 15:25:01 |
DateTimeDigitized | 2010:12:26 15:25:01.00+01:00 |
DateTimeOriginal (1) | 2010:12:26 15:25:01.00+01:00 |
DateTimeOriginal | 2010:12:26 15:25:01 |
Defringe | 0 |
DOF | inf (1.60 m - inf) |
ExifImageHeight | 2587 |
ExifImageWidth | 3864 |
Exposure | +0.32 |
ExposureCompensation | 0 |
ExposureMode | Manual |
ExposureProgram | Manual |
ExposureTime | 2 |
FillLight | 0 |
Firmware | 1.0.8 |
Flash | Off, Did not fire |
FlashCompensation | 0 |
FlashFired | False |
FlashFunction | False |
FlashMode | Off |
FlashRedEyeMode | False |
FlashReturn | No return detection |
FNumber | 5.6 |
FocalLength | 17.0 mm |
FocalLength35efl | 17.0 mm (35 mm equivalent: 27.5 mm) |
Format | image/jpeg |
FOV | 66.4 deg |
GrainAmount | 0 |
GreenHue | 0 |
GreenSaturation | 0 |
HasCrop | False |
HasSettings | True |
HighlightRecovery | 0 |
HueAdjustmentAqua | 0 |
HueAdjustmentBlue | 0 |
HueAdjustmentGreen | 0 |
HueAdjustmentMagenta | 0 |
HueAdjustmentOrange | 0 |
HueAdjustmentPurple | 0 |
HueAdjustmentRed | 0 |
HueAdjustmentYellow | 0 |
HyperfocalDistance | 2.78 m |
ImageHeight | 2587 |
ImageNumber | 0 |
ImageSize | 3864x2587 |
ImageWidth | 3864 |
IncrementalTemperature | -1 |
IncrementalTint | 0 |
ISO | 400 |
Keywords | Utsikt |
Lens | EF17-40mm f/4L USM |
LensID (1) | 231 |
LensID | Canon EF 17-40mm f/4L USM |
LensInfo | 17-40mm f/? |
LensManualDistortionAmount | 0 |
LensModel | EF17-40mm f/4L USM |
LensProfileEnable | 0 |
LensProfileSetup | LensDefaults |
LightValue | 2.0 |
LuminanceAdjustmentAqua | 0 |
LuminanceAdjustmentBlue | -33 |
LuminanceAdjustmentGreen | 0 |
LuminanceAdjustmentMagenta | +1 |
LuminanceAdjustmentOrange | 0 |
LuminanceAdjustmentPurple | -3 |
LuminanceAdjustmentRed | 0 |
LuminanceAdjustmentYellow | 0 |
LuminanceNoiseReductionContrast | 0 |
LuminanceNoiseReductionDetail | 39 |
LuminanceSmoothing | 52 |
Make | Canon |
Marked | True |
MaxApertureValue | 4.0 |
Megapixels | 10.0 |
MeteringMode | Spot |
Model | Canon EOS 40D |
ModifyDate (1) | 2010:12:26 22:02:14+01:00 |
ModifyDate | 2010:12:26 22:02:14 |
ParametricDarks | 0 |
ParametricHighlights | 0 |
ParametricHighlightSplit | 75 |
ParametricLights | 0 |
ParametricMidtoneSplit | 50 |
ParametricShadows | 0 |
ParametricShadowSplit | 25 |
PerspectiveHorizontal | 0 |
PerspectiveRotate | 0.0 |
PerspectiveScale | 100 |
PerspectiveVertical | 0 |
PostCropVignetteAmount | 0 |
ProcessVersion | 5.7 |
ProfileDescription | sRGB IEC61966-2.1 |
RedHue | 0 |
RedSaturation | 0 |
Rights | Steinar Vik |
Saturation | +1 |
SaturationAdjustmentAqua | 0 |
SaturationAdjustmentBlue | 0 |
SaturationAdjustmentGreen | 0 |
SaturationAdjustmentMagenta | 0 |
SaturationAdjustmentOrange | 0 |
SaturationAdjustmentPurple | 0 |
SaturationAdjustmentRed | 0 |
SaturationAdjustmentYellow | 0 |
ScaleFactor35efl | 1.6 |
SceneCaptureType | Standard |
SensitivityType | Unknown |
SerialNumber | 330101319 |
Shadows | 0 |
ShadowTint | 0 |
SharpenDetail | 25 |
SharpenEdgeMasking | 0 |
SharpenRadius | +1.0 |
Sharpness | 0 |
ShutterSpeed | 2 |
ShutterSpeedValue | 2 |
SidecarForExtension | CR2 |
Software | Adobe Photoshop CS5 Windows |
SplitToningBalance | 0 |
SplitToningHighlightHue | 248 |
SplitToningHighlightSaturation | 5 |
SplitToningShadowHue | 0 |
SplitToningShadowSaturation | 0 |
Subject | Utsikt |
SubjectDistance | 3.72 m |
ToneCurve | 0, 0, 255, 255 |
ToneCurveName | Linear |
Version | 6.2 |
Vibrance | +1 |
VignetteAmount | 0 |
WhiteBalance (2) | Custom |
WhiteBalance | Auto |