Felt | Verdi |
AlreadyApplied | True |
Aperture | 4.5 |
ApertureValue | 4.5 |
ApproximateFocusDistance | 4294967295 |
Artist | Jan Erik Arud |
AuthorsPosition | Photographer |
BitsPerSample | 8 |
BlueHue | 0 |
BlueSaturation | 0 |
Brightness | +50 |
By-line | Jan Erik Arud |
By-lineTitle | Photographer |
CameraProfile | Adobe Standard |
ChromaticAberrationB | 0 |
ChromaticAberrationR | 0 |
CircleOfConfusion | 0.023 mm |
Clarity | 0 |
ColorComponents | 3 |
ColorNoiseReduction | 25 |
ColorNoiseReductionDetail | 50 |
ColorTemperature | 5908 |
Contrast | +25 |
ConvertToGrayscale | False |
Copyright | © 2011 Jan Erik Arud |
CopyrightFlag | True |
CopyrightNotice | © 2011 Jan Erik Arud |
CreateDate (1) | 2011:06:03 20:31:41.87 |
CreateDate | 2011:06:03 20:31:41 |
Creator | Jan Erik Arud |
CreatorAddress | Henrik Wergelands Gt.18 |
CreatorCity | Notodden |
CreatorCountry | Norway |
CreatorPostalCode | 3675 |
CreatorRegion | Telemark |
CreatorTool | Adobe Photoshop Lightroom 3.4.1 |
CreatorWorkEmail | jan.erik.arud@gmail.com |
CreatorWorkTelephone | + 47 93 41 12 36 |
CreatorWorkURL | http://www.flickr.com/photos/jarud/ |
CropAngle | 0 |
CropBottom | 0.878456 |
CropConstrainToWarp | 0 |
CropHeight | 1905 |
CropLeft | 0.251219 |
CropRight | 0.986179 |
CropTop | 0.143496 |
CropUnit | pixels |
CropWidth | 2858 |
CustomRendered | Normal |
DateCreated (1) | 2011:06:03 |
DateCreated | 2011:06:03 20:31:41.87 |
DateTimeOriginal | 2011:06:03 20:31:41 |
Defringe | 0 |
DOF | inf (2369.30 m - inf) |
Exposure | +0.51 |
ExposureCompensation | 0 |
ExposureMode | Manual |
ExposureProgram | Manual |
ExposureTime | 1/1600 |
FillLight | 11 |
Firmware | 1.3.0 |
Flash | Off, Did not fire |
FlashCompensation | 0 |
FNumber | 4.5 |
FocalLength | 500.0 mm |
FocalLength35efl | 500.0 mm (35 mm equivalent: 640.7 mm) |
FOV | 3.2 deg |
GrainAmount | 0 |
GreenHue | 0 |
GreenSaturation | 0 |
HasCrop | True |
HasSettings | True |
HighlightRecovery | 0 |
HueAdjustmentAqua | 0 |
HueAdjustmentBlue | 0 |
HueAdjustmentGreen | 0 |
HueAdjustmentMagenta | 0 |
HueAdjustmentOrange | 0 |
HueAdjustmentPurple | 0 |
HueAdjustmentRed | 0 |
HueAdjustmentYellow | 0 |
HyperfocalDistance | 2369.30 m |
ImageHeight | 1905 |
ImageNumber | 0 |
ImageSize | 2858x1905 |
ImageWidth | 2858 |
ISO | 200 |
Keywords | Jetstevne Fyresdal 2011, airplane, flyshow, modellfly |
Label | Red |
Lens | EF500mm f/4L IS USM |
LensID (1) | 143 |
LensID | Canon EF 500mm f/4L IS USM |
LensInfo | 500mm f/? |
LensManualDistortionAmount | 0 |
LensModel | EF500mm f/4L IS USM |
LensProfileEnable | 0 |
LensProfileSetup | LensDefaults |
LightValue | 14.0 |
LuminanceAdjustmentAqua | 0 |
LuminanceAdjustmentBlue | 0 |
LuminanceAdjustmentGreen | 0 |
LuminanceAdjustmentMagenta | 0 |
LuminanceAdjustmentOrange | 0 |
LuminanceAdjustmentPurple | 0 |
LuminanceAdjustmentRed | 0 |
LuminanceAdjustmentYellow | 0 |
LuminanceNoiseReductionContrast | 0 |
LuminanceNoiseReductionDetail | 50 |
LuminanceSmoothing | 6 |
Make | Canon |
Marked | True |
MaxApertureValue | 4.0 |
Megapixels | 5.4 |
MeteringMode | Partial |
Model | Canon EOS-1D Mark III |
ModifyDate (1) | 2011:06:04 21:20:57+02:00 |
ModifyDate | 2011:06:04 21:20:57 |
OwnerName | Jan Erik Arud |
ParametricDarks | -12 |
ParametricHighlights | 0 |
ParametricHighlightSplit | 75 |
ParametricLights | +19 |
ParametricMidtoneSplit | 50 |
ParametricShadows | 0 |
ParametricShadowSplit | 25 |
PerspectiveHorizontal | 0 |
PerspectiveRotate | 0.0 |
PerspectiveScale | 100 |
PerspectiveVertical | 0 |
PostCropVignetteAmount | 0 |
ProcessVersion | 5.7 |
ProfileDescription | sRGB IEC61966-2.1 |
Rating | 2 |
RedHue | 0 |
RedSaturation | 0 |
Rights | © 2011 Jan Erik Arud |
Saturation | 0 |
SaturationAdjustmentAqua | 0 |
SaturationAdjustmentBlue | 0 |
SaturationAdjustmentGreen | 0 |
SaturationAdjustmentMagenta | 0 |
SaturationAdjustmentOrange | 0 |
SaturationAdjustmentPurple | 0 |
SaturationAdjustmentRed | 0 |
SaturationAdjustmentYellow | 0 |
ScaleFactor35efl | 1.3 |
SceneCaptureType | Standard |
SerialNumber | 529067 |
Shadows | 5 |
ShadowTint | 0 |
SharpenDetail | 48 |
SharpenEdgeMasking | 62 |
SharpenRadius | +1.0 |
Sharpness | 57 |
ShutterSpeed | 1/1600 |
ShutterSpeedValue | 1/1600 |
Software | Adobe Photoshop Lightroom 3.4.1 |
SplitToningBalance | 0 |
SplitToningHighlightHue | 0 |
SplitToningHighlightSaturation | 0 |
SplitToningShadowHue | 0 |
SplitToningShadowSaturation | 0 |
Subject | Jetstevne Fyresdal 2011, airplane, flyshow, modellfly |
SubjectDistance | 4294967295 m |
Tint | 0 |
ToneCurve | 0, 0, 32, 22, 64, 56, 128, 128, 192, 196, 255, 255 |
ToneCurveName | Medium Contrast |
UsageTerms | For any reuse or distribution of this image, please contact Jan Erik Arud at jan.erik.arud@gmail.com |
Version | 6.4.1 |
Vibrance | 0 |
VignetteAmount | 0 |
WhiteBalance (1) | Custom |
WhiteBalance | Auto |