Felt | Verdi |
AlreadyApplied | True |
Aperture | 32.0 |
ApertureValue | 32.0 |
ApproximateFocusDistance | 2.55 |
BitsPerSample | 8 |
BlueHue | +11 |
BlueSaturation | -21 |
Brightness | +64 |
CameraProfile | Embedded |
ChromaticAberrationB | 0 |
ChromaticAberrationR | 0 |
CircleOfConfusion | 0.019 mm |
Clarity | 0 |
ColorComponents | 3 |
ColorNoiseReduction | 25 |
ColorNoiseReductionDetail | 50 |
Contrast | +32 |
ConvertToGrayscale | True |
CreateDate (1) | 2011:07:22 18:47:25.19 |
CreateDate | 2011:07:22 18:47:25 |
CreatorTool | Adobe Photoshop Lightroom 3.4.1 |
CustomRendered | Normal |
DateCreated (1) | 2011:07:22 |
DateCreated | 2011:07:22 18:47:25.019 |
DateTimeOriginal | 2011:07:22 18:47:25 |
Defringe | 0 |
DOF | inf (1.24 m - inf) |
Exposure | -1.10 |
ExposureCompensation | +1/3 |
ExposureMode | Auto bracket |
ExposureProgram | Shutter speed priority AE |
ExposureTime | 2.5 |
FillLight | 23 |
Firmware | 1.0.9 |
Flash | Off, Did not fire |
FlashCompensation | 0 |
FNumber | 32.0 |
FocalLength | 38.0 mm |
FocalLength35efl | 38.0 mm (35 mm equivalent: 59.8 mm) |
Format | image/tiff |
FOV | 33.5 deg |
GradientBasedCorrActive | true |
GradientBasedCorrAmount | 1.000000 |
GradientBasedCorrBrightness (1) | 0.317647 |
GradientBasedCorrBrightness | -0.552941 |
GradientBasedCorrClarity (1) | 0.000000 |
GradientBasedCorrClarity | 0.600000 |
GradientBasedCorrContrast (1) | 0.250000 |
GradientBasedCorrContrast | 0.623529 |
GradientBasedCorrExposure (1) | 0.011765 |
GradientBasedCorrExposure | -0.082353 |
GradientBasedCorrHue | 0.000000 |
GradientBasedCorrMaskFullX (1) | 0.489004 |
GradientBasedCorrMaskFullX | 0.434765 |
GradientBasedCorrMaskFullY (1) | 0.294422 |
GradientBasedCorrMaskFullY | 0.312989 |
GradientBasedCorrMaskValue | 1.000000 |
GradientBasedCorrMaskWhat | Mask/Gradient |
GradientBasedCorrMaskZeroX (1) | 0.484932 |
GradientBasedCorrMaskZeroX | 0.432877 |
GradientBasedCorrMaskZeroY (1) | 0.606947 |
GradientBasedCorrMaskZeroY | 0.488117 |
GradientBasedCorrSaturation (3) | 0.152941 |
GradientBasedCorrSaturation | 0.000000 |
GradientBasedCorrSharpness (1) | 0.000000 |
GradientBasedCorrSharpness | 0.576471 |
GradientBasedCorrWhat | Correction |
GrainAmount | 0 |
GrayMixerAqua | -10 |
GrayMixerBlue | +19 |
GrayMixerGreen | -9 |
GrayMixerMagenta | +30 |
GrayMixerOrange | +20 |
GrayMixerPurple | +25 |
GrayMixerRed | +34 |
GrayMixerYellow | +9 |
GreenHue | +16 |
GreenSaturation | +51 |
HasCrop | False |
HasSettings | True |
HighlightRecovery | 43 |
HyperfocalDistance | 2.36 m |
ImageHeight | 5175 |
ImageNumber | 0 |
ImageSize | 3449x5175 |
ImageWidth | 3449 |
IncrementalTemperature | 0 |
IncrementalTint | 0 |
ISO | 100 |
Keywords | Skallevold, Skallevoldstranden |
Lens | EF-S15-85mm f/3.5-5.6 IS USM |
LensID (1) | 488 |
LensID | Canon EF-S 15-85mm f/3.5-5.6 IS USM |
LensInfo | 15-85mm f/? |
LensManualDistortionAmount | 0 |
LensModel | EF-S15-85mm f/3.5-5.6 IS USM |
LensProfileEnable | 0 |
LensProfileSetup | LensDefaults |
LensSerialNumber | 000010a378 |
LightValue | 8.7 |
LuminanceSmoothing | 0 |
Make | Canon |
MaxApertureValue | 5.0 |
Megapixels | 17.8 |
MeteringMode | Multi-segment |
Model | Canon EOS 60D |
ModifyDate (1) | 2011:07:25 11:33:19+02:00 |
ModifyDate | 2011:07:25 11:33:19 |
ParametricDarks | 0 |
ParametricHighlights | 0 |
ParametricHighlightSplit | 75 |
ParametricLights | -2 |
ParametricMidtoneSplit | 50 |
ParametricShadows | 0 |
ParametricShadowSplit | 25 |
PerspectiveHorizontal | 0 |
PerspectiveRotate | 0.0 |
PerspectiveScale | 100 |
PerspectiveVertical | 0 |
PostCropVignetteAmount | 0 |
ProcessVersion | 5.7 |
ProfileDescription | sRGB IEC61966-2.1 |
Rating | 3 |
RedHue | +23 |
RedSaturation | +10 |
ScaleFactor35efl | 1.6 |
SceneCaptureType | Standard |
SerialNumber | 1280624601 |
Shadows | 0 |
ShadowTint | +4 |
SharpenDetail | 25 |
SharpenEdgeMasking | 0 |
SharpenRadius | +1.0 |
Sharpness | 25 |
ShutterSpeed | 2.5 |
ShutterSpeedValue | 2.5 |
Software | Adobe Photoshop Lightroom 3.4.1 |
SplitToningBalance | 0 |
SplitToningHighlightHue | 215 |
SplitToningHighlightSaturation | 49 |
SplitToningShadowHue | 216 |
SplitToningShadowSaturation | 12 |
Subject | Skallevold, Skallevoldstranden |
SubjectDistance | 2.55 m |
ToneCurve | 0, 0, 255, 255 |
ToneCurveName | Linear |
Version | 6.4.1 |
VignetteAmount | -100 |
VignetteMidpoint | 40 |
WhiteBalance (1) | Custom |
WhiteBalance | Auto |