Felt | Verdi |
AlreadyApplied | True |
Aperture | 2.0 |
ApertureValue | 2.0 |
BitsPerSample | 8 |
BlueHue | 0 |
BlueSaturation | 0 |
Brightness | +50 |
By-line | Erik Berg-Johansen |
CameraProfile | Adobe Standard |
ChromaticAberrationB | 0 |
ChromaticAberrationR | 0 |
CircleOfConfusion | 0.031 mm |
Clarity | 0 |
ColorComponents | 1 |
ColorNoiseReduction | 25 |
ColorNoiseReductionDetail | 50 |
ColorTemperature | 2000 |
Contrast | +25 |
ConvertToGrayscale | True |
Copyright | Erik Berg-Johansen |
CopyrightFlag | True |
CopyrightNotice | Erik Berg-Johansen |
CreateDate (1) | 2011:12:07 23:33:00.37 |
CreateDate | 2011:12:07 23:33:00 |
Creator | Erik Berg-Johansen |
CreatorCity | Otta |
CreatorTool | Adobe Photoshop Lightroom 3.3 |
CreatorWorkEmail | bjo1982@me.com |
CreatorWorkTelephone | 41269794 |
CropAngle | -1.76701 |
CropBottom | 0.96607 |
CropConstrainToWarp | 0 |
CropHeight | 938 |
CropLeft | 0.14965 |
CropRight | 0.864158 |
CropTop | 0.043273 |
CropUnit | pixels |
CropWidth | 1024 |
CustomRendered | Normal |
DateTimeDigitized | 2011:12:07 23:33:00.37+01:00 |
DateTimeOriginal (1) | 2011:12:07 23:33:00.37+01:00 |
DateTimeOriginal | 2011:12:07 23:33:00 |
Defringe | 0 |
ExifImageHeight | 938 |
ExifImageWidth | 1024 |
Exposure | 0.00 |
ExposureCompensation | 0 |
ExposureMode | Manual |
ExposureProgram | Manual |
ExposureTime | 1/60 |
FillLight | 0 |
Firmware | 1.0.7 |
Flash | Off, Did not fire |
FlashCompensation | 0 |
FlashFired | False |
FlashFunction | False |
FlashMode | Off |
FlashRedEyeMode | False |
FlashReturn | No return detection |
FNumber | 2.0 |
FocalLength | 20.0 mm |
FocalLength35efl | 20.0 mm (35 mm equivalent: 19.5 mm) |
Format | image/dng |
FOV | 85.4 deg |
GrainAmount | 0 |
GrayMixerAqua | 0 |
GrayMixerBlue | 0 |
GrayMixerGreen | 0 |
GrayMixerMagenta | 0 |
GrayMixerOrange | 0 |
GrayMixerPurple | 0 |
GrayMixerRed | 0 |
GrayMixerYellow | 0 |
GreenHue | 0 |
GreenSaturation | 0 |
HasCrop | True |
HasSettings | True |
HighlightRecovery | 0 |
HyperfocalDistance | 6.50 m |
ImageHeight | 938 |
ImageNumber | 0 |
ImageSize | 1024x938 |
ImageWidth | 1024 |
ISO | 5000 |
Keywords | konsert, mono, oslo, rex rudi |
Lens | 20mm |
LensID (1) | 150 |
LensID | Sigma 20mm EX f/1.8 |
LensInfo | 20mm f/? |
LensManualDistortionAmount | 0 |
LensModel | 20mm |
LensProfileEnable | 0 |
LensProfileSetup | LensDefaults |
LightValue | 2.3 |
LuminanceSmoothing | 0 |
Make | Canon |
Marked | True |
MaxApertureValue | 1.8 |
Megapixels | 0.961 |
MeteringMode | Spot |
Model | Canon EOS 5D Mark II |
ModifyDate (1) | 2011:12:26 21:10:06+01:00 |
ModifyDate | 2011:12:26 21:10:06 |
ParametricDarks | -14 |
ParametricHighlights | +25 |
ParametricHighlightSplit | 75 |
ParametricLights | +6 |
ParametricMidtoneSplit | 50 |
ParametricShadows | -12 |
ParametricShadowSplit | 25 |
PerspectiveHorizontal | 0 |
PerspectiveRotate | 0.0 |
PerspectiveScale | 100 |
PerspectiveVertical | 0 |
PostCropVignetteAmount | 0 |
ProcessVersion | 5.7 |
ProfileDescription | sRGB IEC61966-2.1 |
Rating | 1 |
RedHue | 0 |
RedSaturation | 0 |
Rights | Erik Berg-Johansen |
ScaleFactor35efl | 1.0 |
SceneCaptureType | Standard |
SensitivityType | Unknown |
SerialNumber | 130100284 |
Shadows | 5 |
ShadowTint | 0 |
SharpenDetail | 25 |
SharpenEdgeMasking | 0 |
SharpenRadius | +1.0 |
Sharpness | 25 |
ShutterSpeed | 1/60 |
ShutterSpeedValue | 1/60 |
Software | Adobe Photoshop Camera Raw 6.4.1 |
SplitToningBalance | 0 |
SplitToningHighlightHue | 0 |
SplitToningHighlightSaturation | 0 |
SplitToningShadowHue | 0 |
SplitToningShadowSaturation | 0 |
Subject | konsert, mono, oslo, rex rudi |
Tint | -3 |
ToneCurve | 0, 0, 32, 22, 64, 56, 128, 128, 192, 196, 255, 255 |
ToneCurveName | Medium Contrast |
Version | 6.3 |
VignetteAmount | -90 |
VignetteMidpoint | 15 |
WhiteBalance (2) | Custom |
WhiteBalance | Auto |