Felt | Verdi |
AlreadyApplied | True |
Aperture | 3.5 |
ApertureValue | 3.5 |
ApproximateFocusDistance | 33.5 |
Artist | Oyvind H-Hustoft |
BitsPerSample | 8 |
BlueHue | 0 |
BlueSaturation | 0 |
Brightness | +4 |
By-line | Oyvind H-Hustoft |
CameraProfile | Adobe Standard |
CFAPattern | [Red,Green][Green,Blue] |
ChromaticAberrationB | 0 |
ChromaticAberrationR | 0 |
CircleOfConfusion | 0.020 mm |
Clarity | -22 |
ColorComponents | 3 |
ColorNoiseReduction | 27 |
ColorNoiseReductionDetail | 50 |
ColorTemperature | 4522 |
Contrast (2) | +10 |
Contrast | Normal |
ConvertToGrayscale | False |
Copyright | Oyvind H-Hustoft |
CopyrightNotice | Oyvind H-Hustoft |
CreateDate (1) | 2012:03:24 15:37:39.33+01:00 |
CreateDate | 2012:03:24 15:37:39 |
Creator | Oyvind H-Hustoft |
CreatorTool | Adobe Photoshop Lightroom |
CropAngle | 7.232 |
CropBottom | 0.605733 |
CropConstrainToWarp | 0 |
CropHeight | 474 |
CropLeft | 0.458717 |
CropRight | 0.61493 |
CropTop | 0.408348 |
CropUnit | pixels |
CropWidth | 735 |
CustomRendered | Normal |
DateTimeDigitized | 2012:03:24 15:37:39.33+01:00 |
DateTimeOriginal (1) | 2012:03:24 15:37:39.33+01:00 |
DateTimeOriginal | 2012:03:24 15:37:39 |
Defringe | 0 |
DigitalZoomRatio | 1 |
DOF | 1.73 m (32.66 - 34.39 m) |
ExifImageHeight | 474 |
ExifImageWidth | 735 |
Exposure | -1.08 |
ExposureCompensation | 0 |
ExposureMode | Auto |
ExposureProgram | Aperture-priority AE |
ExposureTime | 1/1000 |
FillLight | 2 |
Flash | No Flash |
FlashFired | False |
FlashFunction | False |
FlashMode | Unknown |
FlashRedEyeMode | False |
FlashReturn | No return detection |
FNumber | 3.5 |
FocalLength | 300.0 mm |
FocalLength35efl | 300.0 mm (35 mm equivalent: 450.0 mm) |
FocalLengthIn35mmFormat | 450 mm |
FOV | 4.6 deg |
GainControl | Low gain up |
GrainAmount | 1 |
GrainFrequency | 50 |
GrainSize | 25 |
GreenHue | 0 |
GreenSaturation | 0 |
HasCrop | True |
HasSettings | True |
HighlightRecovery | 39 |
HueAdjustmentAqua | 0 |
HueAdjustmentBlue | 0 |
HueAdjustmentGreen | 0 |
HueAdjustmentMagenta | 0 |
HueAdjustmentOrange | 0 |
HueAdjustmentPurple | 0 |
HueAdjustmentRed | 0 |
HueAdjustmentYellow | 0 |
HyperfocalDistance | 1283.73 m |
ImageHeight | 474 |
ImageNumber | 3439 |
ImageSize | 735x474 |
ImageWidth | 735 |
ISO | 400 |
Lens | 300.0 mm f/2.8 |
LensID (1) | 109 |
LensID | AF-S Nikkor 300mm f/2.8D IF-ED II |
LensInfo | 300mm f/2.8 |
LensManualDistortionAmount | 0 |
LensModel | 300.0 mm f/2.8 |
LensProfileEnable | 0 |
LensProfileSetup | LensDefaults |
LightSource | Unknown |
LightValue | 11.6 |
LuminanceAdjustmentAqua | 0 |
LuminanceAdjustmentBlue | 0 |
LuminanceAdjustmentGreen | 0 |
LuminanceAdjustmentMagenta | 0 |
LuminanceAdjustmentOrange | 0 |
LuminanceAdjustmentPurple | 0 |
LuminanceAdjustmentRed | 0 |
LuminanceAdjustmentYellow | 0 |
LuminanceNoiseReductionContrast | 0 |
LuminanceNoiseReductionDetail | 78 |
LuminanceSmoothing | 25 |
Make | NIKON CORPORATION |
MaxApertureValue | 2.8 |
Megapixels | 0.348 |
MeteringMode | Multi-segment |
Model | NIKON D300S |
ModifyDate (1) | 2012:03:24 19:58:08+01:00 |
ModifyDate | 2012:03:24 19:58:08 |
ParametricDarks | +15 |
ParametricHighlights | +2 |
ParametricHighlightSplit | 75 |
ParametricLights | +24 |
ParametricMidtoneSplit | 50 |
ParametricShadows | +17 |
ParametricShadowSplit | 25 |
PerspectiveHorizontal | 0 |
PerspectiveRotate | 0.0 |
PerspectiveScale | 100 |
PerspectiveVertical | 0 |
PostCropVignetteAmount | +1 |
PostCropVignetteFeather | 50 |
PostCropVignetteMidpoint | 50 |
PostCropVignetteRoundness | -1 |
PostCropVignetteStyle | 1 |
ProcessVersion | 5.7 |
ProfileDescription | sRGB IEC61966-2.1 |
RedHue | 0 |
RedSaturation | 0 |
Rights | Oyvind H-Hustoft |
Saturation (2) | +27 |
Saturation | Normal |
SaturationAdjustmentAqua | 0 |
SaturationAdjustmentBlue | 0 |
SaturationAdjustmentGreen | 0 |
SaturationAdjustmentMagenta | 0 |
SaturationAdjustmentOrange | +14 |
SaturationAdjustmentPurple | 0 |
SaturationAdjustmentRed | +22 |
SaturationAdjustmentYellow | +10 |
ScaleFactor35efl | 1.5 |
SceneCaptureType | Standard |
SceneType | Directly photographed |
SensingMethod | One-chip color area |
SensitivityType | Unknown |
SerialNumber | 6090171 |
Shadows | 1 |
ShadowTint | 0 |
SharpenDetail | 70 |
SharpenEdgeMasking | 26 |
SharpenRadius | +0.5 |
Sharpness (2) | 72 |
Sharpness | Normal |
ShutterSpeed | 1/1000 |
ShutterSpeedValue | 1/1000 |
Software | Ver.1.01 |
SplitToningBalance | +1 |
SplitToningHighlightHue | 0 |
SplitToningHighlightSaturation | 3 |
SplitToningShadowHue | 0 |
SplitToningShadowSaturation | 0 |
SubjectDistance | 33.5 m |
SubjectDistanceRange | Unknown |
Tint | +1 |
ToneCurve | 0, 0, 32, 22, 64, 56, 128, 128, 192, 196, 255, 255 |
ToneCurveName | Medium Contrast |
Version | 6.2 |
Vibrance | -1 |
VignetteAmount | 0 |
WhiteBalance (2) | Custom |
WhiteBalance | Auto |